FILENAME: O4811428.SWS.48631.tif
QUADRANGLE_NAME: OLNEY
QUADRANT: SW
WEST_LONGITUDE: -114 37 30.00000
EAST_LONGITUDE: -114 33 45.00000
NORTH_LATITUDE: 48 33 45.00000
SOUTH_LATITUDE: 48 30 0.00000
PRODUCTION_DATE: 1995 5 2
RASTER_ORDER: LEFT_RIGHT/TOP_BOTTOM
BAND_ORGANIZATION: SINGLE FILE
BAND_CONTENT: BLACK&WHITE
BAND_CONTENT: UNDEFINED
BAND_CONTENT: UNDEFINED
BITS_PER_PIXEL: 8
SAMPLES_AND_LINES: 5508 7701
HORIZONTAL_DATUM: NAD83
HORIZONTAL_COORDINATE_SYSTEM: UTM
COORDINATE_ZONE: 11
HORIZONTAL_UNITS: METERS
HORIZONTAL_RESOLUTION: 1.00000
SECONDARY_HORIZONTAL_DATUM: NAD27
XY_ORIGIN: 674850.00000 5381992.00000
SECONDARY_XY_ORIGIN: 674927.60100 5381779.20000
NATION: US
STATE: MT
NW_QUAD_CORNER_XY: 675223.68700 5381546.13900
NE_QUAD_CORNER_XY: 679834.49800 5381691.39300
SE_QUAD_CORNERY_XY: 680056.07100 5374744.90000
SW_QUAD_CORNER_XY: 675439.57300 5374599.60700
SECONDARY_NW_QUAD_XY: 675229.26600 5381327.24600
SECONDARY_NE_QUAD_XY: 679840.22300 5381472.50400
SECONDARY_SE_QUAD_XY: 680061.79600 5374526.01900
SECONDARY_SW_QUAD_XY: 675445.15100 5374380.72200
RMSE_XY: 6.00000
IMAGE_SOURCE: BLACK AND WHITE FILM
SOURCE_IMAGE_ID: NAPP 2640 61
SOURCE_IMAGE_DATE: 1990 7 1
SOURCE_IMAGE_ID: NAPP 2640 2640
SOURCE_IMAGE_DATE: 1990 7 1
SOURCE_IMAGE_ID: NAPP 2640 60
SOURCE_IMAGE_DATE: 1990 7 1
SOURCE_DEM_DATE: 1995 5 2
AGENCY: WESTERN MAPPING CENTER (WMC)
PRODUCER: Science Applications International
PRODUCTION_SYSTEM: GIS/MAGIC
COMPRESSION: UNDEFINED
STANDARD_VERSION: 1996 12
METADATA_DATE: 1997 7 25
DATA_FILE_SIZE: 42422616
BYTE_COUNT: 5508
