FILENAME: O4811427.SES.48834.tif
QUADRANGLE_NAME: RADNOR
QUADRANT: SE
WEST_LONGITUDE: -114 41 15.00000
EAST_LONGITUDE: -114 37 30.00000
NORTH_LATITUDE: 48 33 45.00000
SOUTH_LATITUDE: 48 30 0.00000
PRODUCTION_DATE: 1995 5 2
RASTER_ORDER: LEFT_RIGHT/TOP_BOTTOM
BAND_ORGANIZATION: SINGLE FILE
BAND_CONTENT: BLACK&WHITE
BAND_CONTENT: UNDEFINED
BAND_CONTENT: UNDEFINED
BITS_PER_PIXEL: 8
SAMPLES_AND_LINES: 5502 7698
HORIZONTAL_DATUM: NAD83
HORIZONTAL_COORDINATE_SYSTEM: UTM
COORDINATE_ZONE: 11
HORIZONTAL_UNITS: METERS
HORIZONTAL_RESOLUTION: 1.00000
SECONDARY_HORIZONTAL_DATUM: NAD27
XY_ORIGIN: 670239.00000 5381847.00000
SECONDARY_XY_ORIGIN: 670316.60100 5381634.19000
NATION: US
STATE: MT
NW_QUAD_CORNER_XY: 670612.85000 5381404.66200
NE_QUAD_CORNER_XY: 675223.68700 5381546.13900
SE_QUAD_CORNERY_XY: 675439.57300 5374599.60700
SW_QUAD_CORNER_XY: 670823.05000 5374458.09200
SECONDARY_NW_QUAD_XY: 670618.28200 5381185.76400
SECONDARY_NE_QUAD_XY: 675229.26600 5381327.24600
SECONDARY_SE_QUAD_XY: 675445.15100 5374380.72200
SECONDARY_SW_QUAD_XY: 670828.48100 5374239.20200
RMSE_XY: 4.70000
IMAGE_SOURCE: BLACK AND WHITE FILM
SOURCE_IMAGE_ID: NAPP 2663 20
SOURCE_IMAGE_DATE: 1991 9 4
SOURCE_IMAGE_ID: NAPP 2663 2663
SOURCE_IMAGE_DATE: 1991 9 4
SOURCE_IMAGE_ID: NAPP 2663 19
SOURCE_IMAGE_DATE: 1991 9 4
SOURCE_DEM_DATE: 1995 5 2
AGENCY: WESTERN MAPPING CENTER (WMC)
PRODUCER: Science Applications International
PRODUCTION_SYSTEM: GIS/MAGIC
COMPRESSION: UNDEFINED
STANDARD_VERSION: 1996 12
METADATA_DATE: 1997 7 25
DATA_FILE_SIZE: 42359898
BYTE_COUNT: 5502
