FILENAME: O4811424.NWS.48056.tif
QUADRANGLE_NAME: CAMAS RIDGE WEST
QUADRANT: NW
WEST_LONGITUDE: -114 7 30.00000
EAST_LONGITUDE: -114 3 45.00000
NORTH_LATITUDE: 48 45 0.00000
SOUTH_LATITUDE: 48 41 15.00000
PRODUCTION_DATE: 1994 11 4
RASTER_ORDER: LEFT_RIGHT/TOP_BOTTOM
BAND_ORGANIZATION: SINGLE FILE
BAND_CONTENT: BLACK&WHITE
BAND_CONTENT: UNDEFINED
BAND_CONTENT: UNDEFINED
BITS_PER_PIXEL: 8
SAMPLES_AND_LINES: 5536 7731
HORIZONTAL_DATUM: NAD83
HORIZONTAL_COORDINATE_SYSTEM: UTM
COORDINATE_ZONE: 11
HORIZONTAL_UNITS: METERS
HORIZONTAL_RESOLUTION: 1.00000
SECONDARY_HORIZONTAL_DATUM: NAD27
XY_ORIGIN: 710951.00000 5404129.00000
SECONDARY_XY_ORIGIN: 711028.47800 5403915.95100
NATION: US
STATE: MT
NW_QUAD_CORNER_XY: 711323.69400 5403652.84100
NE_QUAD_CORNER_XY: 715917.17000 5403828.16900
SE_QUAD_CORNERY_XY: 716185.03000 5396881.85800
SW_QUAD_CORNER_XY: 711585.84800 5396706.48000
SECONDARY_NW_QUAD_XY: 711330.44800 5403433.97100
SECONDARY_NE_QUAD_XY: 715924.07000 5403609.30400
SECONDARY_SE_QUAD_XY: 716191.93100 5396662.99800
SECONDARY_SW_QUAD_XY: 711592.60200 5396487.61500
RMSE_XY: 1.60000
IMAGE_SOURCE: BLACK AND WHITE FILM
SOURCE_IMAGE_ID: NAPP 2662 036
SOURCE_IMAGE_DATE: 1991 8 30
SOURCE_DEM_DATE: 1994 11 4
AGENCY: WESTERN MAPPING CENTER (WMC)
PRODUCER: Science Applications International
PRODUCTION_SYSTEM: GIS/MAGIC
COMPRESSION: UNDEFINED
STANDARD_VERSION: 1996 12
METADATA_DATE: 1997 7 16
DATA_FILE_SIZE: 42804352
BYTE_COUNT: 5536
