FILENAME: O4811424.SES.48057.tif
QUADRANGLE_NAME: CAMAS RIDGE WEST
QUADRANT: SE
WEST_LONGITUDE: -114 3 45.00000
EAST_LONGITUDE: -114 0 0.00000
NORTH_LATITUDE: 48 41 15.00000
SOUTH_LATITUDE: 48 37 30.00000
PRODUCTION_DATE: 1994 11 4
RASTER_ORDER: LEFT_RIGHT/TOP_BOTTOM
BAND_ORGANIZATION: SINGLE FILE
BAND_CONTENT: BLACK&WHITE
BAND_CONTENT: UNDEFINED
BAND_CONTENT: UNDEFINED
BITS_PER_PIXEL: 8
SAMPLES_AND_LINES: 5546 7735
HORIZONTAL_DATUM: NAD83
HORIZONTAL_COORDINATE_SYSTEM: UTM
COORDINATE_ZONE: 11
HORIZONTAL_UNITS: METERS
HORIZONTAL_RESOLUTION: 1.00000
SECONDARY_HORIZONTAL_DATUM: NAD27
XY_ORIGIN: 715813.00000 5397362.00000
SECONDARY_XY_ORIGIN: 715890.40700 5397149.10400
NATION: US
STATE: MT
NW_QUAD_CORNER_XY: 716185.03000 5396881.85800
NE_QUAD_CORNER_XY: 720784.18000 5397061.01300
SE_QUAD_CORNERY_XY: 721057.48400 5390114.80800
SW_QUAD_CORNER_XY: 716452.63200 5389935.60300
SECONDARY_NW_QUAD_XY: 716191.93100 5396662.99800
SECONDARY_NE_QUAD_XY: 720791.22700 5396842.15900
SECONDARY_SE_QUAD_XY: 721064.53100 5389895.95900
SECONDARY_SW_QUAD_XY: 716459.53300 5389716.74900
RMSE_XY: 1.40000
IMAGE_SOURCE: BLACK AND WHITE FILM
SOURCE_IMAGE_ID: NAPP 2661 020
SOURCE_IMAGE_DATE: 1991 8 26
SOURCE_DEM_DATE: 1994 11 4
AGENCY: WESTERN MAPPING CENTER (WMC)
PRODUCER: Science Applications International
PRODUCTION_SYSTEM: GIS/MAGIC
COMPRESSION: UNDEFINED
STANDARD_VERSION: 1996 12
METADATA_DATE: 1997 7 16
DATA_FILE_SIZE: 42903856
BYTE_COUNT: 5546
