FILENAME: O4811423.SWS.48183.tif
QUADRANGLE_NAME: DEMERS RIDGE
QUADRANT: SW
WEST_LONGITUDE: -114 15 0.00000
EAST_LONGITUDE: -114 11 15.00000
NORTH_LATITUDE: 48 41 15.00000
SOUTH_LATITUDE: 48 37 30.00000
PRODUCTION_DATE: 1994 10 13
RASTER_ORDER: LEFT_RIGHT/TOP_BOTTOM
BAND_ORGANIZATION: SINGLE FILE
BAND_CONTENT: BLACK&WHITE
BAND_CONTENT: UNDEFINED
BAND_CONTENT: UNDEFINED
BITS_PER_PIXEL: 8
SAMPLES_AND_LINES: 5529 7723
HORIZONTAL_DATUM: NAD83
HORIZONTAL_COORDINATE_SYSTEM: UTM
COORDINATE_ZONE: 11
HORIZONTAL_UNITS: METERS
HORIZONTAL_RESOLUTION: 1.00000
SECONDARY_HORIZONTAL_DATUM: NAD27
XY_ORIGIN: 702015.00000 5396835.00000
SECONDARY_XY_ORIGIN: 702092.54200 5396622.07700
NATION: US
STATE: MT
NW_QUAD_CORNER_XY: 702387.38700 5396367.05400
NE_QUAD_CORNER_XY: 706986.63300 5396534.87900
SE_QUAD_CORNERY_XY: 707242.83300 5389588.52700
SW_QUAD_CORNER_XY: 702637.88600 5389420.65600
SECONDARY_NW_QUAD_XY: 702393.84700 5396148.17800
SECONDARY_NE_QUAD_XY: 706993.24000 5396316.00800
SECONDARY_SE_QUAD_XY: 707249.44000 5389369.66200
SECONDARY_SW_QUAD_XY: 702644.34600 5389201.78500
RMSE_XY: 2.40000
IMAGE_SOURCE: BLACK AND WHITE FILM
SOURCE_IMAGE_ID: NAPP 2662 069
SOURCE_IMAGE_DATE: 1991 8 30
SOURCE_DEM_DATE: 1994 10 13
AGENCY: WESTERN MAPPING CENTER (WMC)
PRODUCER: Science Applications International
PRODUCTION_SYSTEM: GIS/MAGIC
COMPRESSION: UNDEFINED
STANDARD_VERSION: 1996 12
METADATA_DATE: 1997 7 27
DATA_FILE_SIZE: 42705996
BYTE_COUNT: 5529
