FILENAME: O4811421.NWS.48445.tif
QUADRANGLE_NAME: MOOSE PEAK
QUADRANT: NW
WEST_LONGITUDE: -114 30 0.00000
EAST_LONGITUDE: -114 26 15.00000
NORTH_LATITUDE: 48 45 0.00000
SOUTH_LATITUDE: 48 41 15.00000
PRODUCTION_DATE: 1994 10 13
RASTER_ORDER: LEFT_RIGHT/TOP_BOTTOM
BAND_ORGANIZATION: SINGLE FILE
BAND_CONTENT: BLACK&WHITE
BAND_CONTENT: UNDEFINED
BAND_CONTENT: UNDEFINED
BITS_PER_PIXEL: 8
SAMPLES_AND_LINES: 5502 7708
HORIZONTAL_DATUM: NAD83
HORIZONTAL_COORDINATE_SYSTEM: UTM
COORDINATE_ZONE: 11
HORIZONTAL_UNITS: METERS
HORIZONTAL_RESOLUTION: 1.00000
SECONDARY_HORIZONTAL_DATUM: NAD27
XY_ORIGIN: 683389.00000 5403133.00000
SECONDARY_XY_ORIGIN: 683466.70700 5402919.92900
NATION: US
STATE: MT
NW_QUAD_CORNER_XY: 683762.17800 5402680.14900
NE_QUAD_CORNER_XY: 688355.84000 5402832.82800
SE_QUAD_CORNERY_XY: 688589.46600 5395886.23500
SW_QUAD_CORNER_XY: 683990.10000 5395733.51200
SECONDARY_NW_QUAD_XY: 683768.05100 5402461.24700
SECONDARY_NE_QUAD_XY: 688361.85900 5402613.93100
SECONDARY_SE_QUAD_XY: 688595.48500 5395667.34300
SECONDARY_SW_QUAD_XY: 683995.97300 5395514.61500
RMSE_XY: 4.00000
IMAGE_SOURCE: BLACK AND WHITE FILM
SOURCE_IMAGE_ID: NAPP 2662 139
SOURCE_IMAGE_DATE: 1991 8 30
SOURCE_DEM_DATE: 1994 10 13
AGENCY: WESTERN MAPPING CENTER (WMC)
PRODUCER: Science Applications International
PRODUCTION_SYSTEM: GIS/MAGIC
COMPRESSION: UNDEFINED
STANDARD_VERSION: 1996 12
METADATA_DATE: 1997 7 16
DATA_FILE_SIZE: 42414918
BYTE_COUNT: 5502
