FILENAME: O4811421.SES.48446.tif
QUADRANGLE_NAME: MOOSE PEAK
QUADRANT: SE
WEST_LONGITUDE: -114 26 15.00000
EAST_LONGITUDE: -114 22 30.00000
NORTH_LATITUDE: 48 41 15.00000
SOUTH_LATITUDE: 48 37 30.00000
PRODUCTION_DATE: 1994 12 20
RASTER_ORDER: LEFT_RIGHT/TOP_BOTTOM
BAND_ORGANIZATION: SINGLE FILE
BAND_CONTENT: BLACK&WHITE
BAND_CONTENT: UNDEFINED
BAND_CONTENT: UNDEFINED
BITS_PER_PIXEL: 8
SAMPLES_AND_LINES: 5513 7712
HORIZONTAL_DATUM: NAD83
HORIZONTAL_COORDINATE_SYSTEM: UTM
COORDINATE_ZONE: 11
HORIZONTAL_UNITS: METERS
HORIZONTAL_RESOLUTION: 1.00000
SECONDARY_HORIZONTAL_DATUM: NAD27
XY_ORIGIN: 688216.00000 5396343.00000
SECONDARY_XY_ORIGIN: 688293.63800 5396130.03900
NATION: US
STATE: MT
NW_QUAD_CORNER_XY: 688589.46600 5395886.23500
NE_QUAD_CORNER_XY: 693188.80200 5396042.73200
SE_QUAD_CORNERY_XY: 693427.90200 5389096.24300
SW_QUAD_CORNER_XY: 688822.86600 5388939.70200
SECONDARY_NW_QUAD_XY: 688595.48500 5395667.34300
SECONDARY_NE_QUAD_XY: 693194.96900 5395823.84600
SECONDARY_SE_QUAD_XY: 693434.06800 5388877.36200
SECONDARY_SW_QUAD_XY: 688828.88500 5388720.81600
RMSE_XY: 4.80000
IMAGE_SOURCE: BLACK AND WHITE FILM
SOURCE_IMAGE_ID: NAPP 2662 124
SOURCE_IMAGE_DATE: 1991 8 30
SOURCE_DEM_DATE: 1994 12 20
AGENCY: WESTERN MAPPING CENTER (WMC)
PRODUCER: Science Applications International
PRODUCTION_SYSTEM: GIS/MAGIC
COMPRESSION: UNDEFINED
STANDARD_VERSION: 1996 12
METADATA_DATE: 1997 7 16
DATA_FILE_SIZE: 42521769
BYTE_COUNT: 5513
