FILENAME: O4811420.SES.48626.tif
QUADRANGLE_NAME: UPPER WHITEFISH LAKE
QUADRANT: SE
WEST_LONGITUDE: -114 33 45.00000
EAST_LONGITUDE: -114 30 0.00000
NORTH_LATITUDE: 48 41 15.00000
SOUTH_LATITUDE: 48 37 30.00000
PRODUCTION_DATE: 1994 10 13
RASTER_ORDER: LEFT_RIGHT/TOP_BOTTOM
BAND_ORGANIZATION: SINGLE FILE
BAND_CONTENT: BLACK&WHITE
BAND_CONTENT: UNDEFINED
BAND_CONTENT: UNDEFINED
BITS_PER_PIXEL: 8
SAMPLES_AND_LINES: 5502 7705
HORIZONTAL_DATUM: NAD83
HORIZONTAL_COORDINATE_SYSTEM: UTM
COORDINATE_ZONE: 11
HORIZONTAL_UNITS: METERS
HORIZONTAL_RESOLUTION: 1.00000
SECONDARY_HORIZONTAL_DATUM: NAD27
XY_ORIGIN: 679017.00000 5396034.00000
SECONDARY_XY_ORIGIN: 679094.66800 5395821.02700
NATION: US
STATE: MT
NW_QUAD_CORNER_XY: 679390.70600 5395584.56400
NE_QUAD_CORNER_XY: 683990.10000 5395733.51200
SE_QUAD_CORNERY_XY: 684217.80200 5388786.93700
SW_QUAD_CORNER_XY: 679612.71000 5388637.94700
SECONDARY_NW_QUAD_XY: 679396.43200 5395365.66300
SECONDARY_NE_QUAD_XY: 683995.97300 5395514.61500
SECONDARY_SE_QUAD_XY: 684223.67400 5388568.04600
SECONDARY_SW_QUAD_XY: 679618.43500 5388419.05200
RMSE_XY: 3.10000
IMAGE_SOURCE: BLACK AND WHITE FILM
SOURCE_IMAGE_ID: NAPP 2662 154
SOURCE_IMAGE_DATE: 1991 8 30
SOURCE_DEM_DATE: 1994 10 13
AGENCY: WESTERN MAPPING CENTER (WMC)
PRODUCER: Science Applications International
PRODUCTION_SYSTEM: GIS/MAGIC
COMPRESSION: UNDEFINED
STANDARD_VERSION: 1996 12
METADATA_DATE: 1997 7 16
DATA_FILE_SIZE: 42398412
BYTE_COUNT: 5502
