FILENAME: O4811418.NES.49011.tif
QUADRANGLE_NAME: STRYKER
QUADRANT: NE
WEST_LONGITUDE: -114 48 45.00000
EAST_LONGITUDE: -114 45 0.00000
NORTH_LATITUDE: 48 45 0.00000
SOUTH_LATITUDE: 48 41 15.00000
PRODUCTION_DATE: 1994 10 13
RASTER_ORDER: LEFT_RIGHT/TOP_BOTTOM
BAND_ORGANIZATION: SINGLE FILE
BAND_CONTENT: BLACK&WHITE
BAND_CONTENT: UNDEFINED
BAND_CONTENT: UNDEFINED
BITS_PER_PIXEL: 8
SAMPLES_AND_LINES: 5475 7690
HORIZONTAL_DATUM: NAD83
HORIZONTAL_COORDINATE_SYSTEM: UTM
COORDINATE_ZONE: 11
HORIZONTAL_UNITS: METERS
HORIZONTAL_RESOLUTION: 1.00000
SECONDARY_HORIZONTAL_DATUM: NAD27
XY_ORIGIN: 660419.00000 5402408.00000
SECONDARY_XY_ORIGIN: 660496.72000 5402194.98500
NATION: US
STATE: MT
NW_QUAD_CORNER_XY: 660793.45800 5401973.35100
NE_QUAD_CORNER_XY: 665387.25500 5402107.16500
SE_QUAD_CORNERY_XY: 665592.36400 5395160.36600
SW_QUAD_CORNER_XY: 660992.86600 5395026.51400
SECONDARY_NW_QUAD_XY: 660798.59700 5401754.42700
SECONDARY_NE_QUAD_XY: 665392.54000 5401888.24500
SECONDARY_SE_QUAD_XY: 665597.65000 5394941.45100
SECONDARY_SW_QUAD_XY: 660998.00400 5394807.59500
RMSE_XY: 2.90000
IMAGE_SOURCE: BLACK AND WHITE FILM
SOURCE_IMAGE_ID: NAPP 5693 005
SOURCE_IMAGE_DATE: 1991 9 4
SOURCE_DEM_DATE: 1994 10 13
AGENCY: WESTERN MAPPING CENTER (WMC)
PRODUCER: Science Applications International
PRODUCTION_SYSTEM: GIS/MAGIC
COMPRESSION: UNDEFINED
STANDARD_VERSION: 1996 12
METADATA_DATE: 1997 7 16
DATA_FILE_SIZE: 42108225
BYTE_COUNT: 5475
