FILENAME: O4811416.NES.48051.tif
QUADRANGLE_NAME: VULTURE PEAK
QUADRANT: NE
WEST_LONGITUDE: -114 3 45.00000
EAST_LONGITUDE: -114 0 0.00000
NORTH_LATITUDE: 48 52 30.00000
SOUTH_LATITUDE: 48 48 45.00000
PRODUCTION_DATE: 1995 5 4
RASTER_ORDER: LEFT_RIGHT/TOP_BOTTOM
BAND_ORGANIZATION: SINGLE FILE
BAND_CONTENT: BLACK&WHITE
BAND_CONTENT: UNDEFINED
BAND_CONTENT: UNDEFINED
BITS_PER_PIXEL: 8
SAMPLES_AND_LINES: 5529 7734
HORIZONTAL_DATUM: NAD83
HORIZONTAL_COORDINATE_SYSTEM: UTM
COORDINATE_ZONE: 11
HORIZONTAL_UNITS: METERS
HORIZONTAL_RESOLUTION: 1.00000
SECONDARY_HORIZONTAL_DATUM: NAD27
XY_ORIGIN: 715009.00000 5418200.00000
SECONDARY_XY_ORIGIN: 715086.34900 5417986.64300
NATION: US
STATE: MT
NW_QUAD_CORNER_XY: 715380.67300 5417720.95900
NE_QUAD_CORNER_XY: 719962.68300 5417899.95900
SE_QUAD_CORNERY_XY: 720236.77900 5410953.58800
SW_QUAD_CORNER_XY: 715649.05000 5410774.53600
SECONDARY_NW_QUAD_XY: 715387.57400 5417502.08700
SECONDARY_NE_QUAD_XY: 719969.73100 5417681.09200
SECONDARY_SE_QUAD_XY: 720243.82700 5410734.72500
SECONDARY_SW_QUAD_XY: 715655.95100 5410555.66700
RMSE_XY: 2.00000
IMAGE_SOURCE: BLACK AND WHITE FILM
SOURCE_IMAGE_ID: NAPP 1661 44
SOURCE_IMAGE_DATE: 1991 8 26
SOURCE_IMAGE_ID: NAPP 1661 1661
SOURCE_IMAGE_DATE: 1991 8 26
SOURCE_IMAGE_ID: NAPP 1661 55
SOURCE_IMAGE_DATE: 1991 8 26
SOURCE_IMAGE_ID: NAPP 1661 1661
SOURCE_IMAGE_DATE: 1991 8 26
SOURCE_IMAGE_ID: NAPP 1661 33
SOURCE_IMAGE_DATE: 1991 8 26
SOURCE_DEM_DATE: 1995 5 4
AGENCY: WESTERN MAPPING CENTER (WMC)
PRODUCER: Science Applications International
PRODUCTION_SYSTEM: GIS/MAGIC
COMPRESSION: UNDEFINED
STANDARD_VERSION: 1996 12
METADATA_DATE: 1997 5 20
DATA_FILE_SIZE: 42766815
BYTE_COUNT: 5529
