FILENAME: O4811416.SWS.48054.tif
QUADRANGLE_NAME: VULTURE PEAK
QUADRANT: SW
WEST_LONGITUDE: -114 7 30.00000
EAST_LONGITUDE: -114 3 45.00000
NORTH_LATITUDE: 48 48 45.00000
SOUTH_LATITUDE: 48 45 0.00000
PRODUCTION_DATE: 1995 5 4
RASTER_ORDER: LEFT_RIGHT/TOP_BOTTOM
BAND_ORGANIZATION: SINGLE FILE
BAND_CONTENT: BLACK&WHITE
BAND_CONTENT: UNDEFINED
BAND_CONTENT: UNDEFINED
BITS_PER_PIXEL: 8
SAMPLES_AND_LINES: 5530 7730
HORIZONTAL_DATUM: NAD83
HORIZONTAL_COORDINATE_SYSTEM: UTM
COORDINATE_ZONE: 11
HORIZONTAL_UNITS: METERS
HORIZONTAL_RESOLUTION: 1.00000
SECONDARY_HORIZONTAL_DATUM: NAD27
XY_ORIGIN: 710689.00000 5411075.00000
SECONDARY_XY_ORIGIN: 710766.43100 5410861.80500
NATION: US
STATE: MT
NW_QUAD_CORNER_XY: 711061.28700 5410599.25900
NE_QUAD_CORNER_XY: 715649.05000 5410774.53600
SE_QUAD_CORNERY_XY: 715917.17000 5403828.16900
SW_QUAD_CORNER_XY: 711323.69400 5403652.84100
SECONDARY_NW_QUAD_XY: 711068.04200 5410380.38400
SECONDARY_NE_QUAD_XY: 715655.95100 5410555.66700
SECONDARY_SE_QUAD_XY: 715924.07000 5403609.30400
SECONDARY_SW_QUAD_XY: 711330.44800 5403433.97100
RMSE_XY: 2.40000
IMAGE_SOURCE: BLACK AND WHITE FILM
SOURCE_IMAGE_ID: NAPP 2662 88
SOURCE_IMAGE_DATE: 1991 8 30
SOURCE_IMAGE_ID: NAPP 2662 2662
SOURCE_IMAGE_DATE: 1991 8 30
SOURCE_IMAGE_ID: NAPP 2662 99
SOURCE_IMAGE_DATE: 1991 8 30
SOURCE_DEM_DATE: 1995 5 4
AGENCY: WESTERN MAPPING CENTER (WMC)
PRODUCER: Science Applications International
PRODUCTION_SYSTEM: GIS/MAGIC
COMPRESSION: UNDEFINED
STANDARD_VERSION: 1996 12
METADATA_DATE: 1997 5 20
DATA_FILE_SIZE: 42752430
BYTE_COUNT: 5530
