FILENAME: O4811415.NES.48176.tif
QUADRANGLE_NAME: QUARTZ RIDGE
QUADRANT: NE
WEST_LONGITUDE: -114 11 15.00000
EAST_LONGITUDE: -114 7 30.00000
NORTH_LATITUDE: 48 52 30.00000
SOUTH_LATITUDE: 48 48 45.00000
PRODUCTION_DATE: 1994 10 13
RASTER_ORDER: LEFT_RIGHT/TOP_BOTTOM
BAND_ORGANIZATION: SINGLE FILE
BAND_CONTENT: BLACK&WHITE
BAND_CONTENT: UNDEFINED
BAND_CONTENT: UNDEFINED
BITS_PER_PIXEL: 8
SAMPLES_AND_LINES: 5519 7726
HORIZONTAL_DATUM: NAD83
HORIZONTAL_COORDINATE_SYSTEM: UTM
COORDINATE_ZONE: 11
HORIZONTAL_UNITS: METERS
HORIZONTAL_RESOLUTION: 1.00000
SECONDARY_HORIZONTAL_DATUM: NAD27
XY_ORIGIN: 705844.00000 5417846.00000
SECONDARY_XY_ORIGIN: 705921.44000 5417632.67100
NATION: US
STATE: MT
NW_QUAD_CORNER_XY: 706216.54900 5417374.28100
NE_QUAD_CORNER_XY: 710798.62800 5417545.73300
SE_QUAD_CORNERY_XY: 711061.28700 5410599.25900
SW_QUAD_CORNER_XY: 706473.49100 5410427.75600
SECONDARY_NW_QUAD_XY: 706223.15700 5417155.39700
SECONDARY_NE_QUAD_XY: 710805.38200 5417326.85500
SECONDARY_SE_QUAD_XY: 711068.04200 5410380.38400
SECONDARY_SW_QUAD_XY: 706480.09900 5410208.87600
RMSE_XY: 1.90000
IMAGE_SOURCE: BLACK AND WHITE FILM
SOURCE_IMAGE_ID: NAPP 2662 044
SOURCE_IMAGE_DATE: 1991 8 30
SOURCE_DEM_DATE: 1994 10 13
AGENCY: WESTERN MAPPING CENTER (WMC)
PRODUCER: Science Applications International
PRODUCTION_SYSTEM: GIS/MAGIC
COMPRESSION: UNDEFINED
STANDARD_VERSION: 1996 12
METADATA_DATE: 1997 7 27
DATA_FILE_SIZE: 42645313
BYTE_COUNT: 5519
