FILENAME: O4811415.SES.48178.tif
QUADRANGLE_NAME: QUARTZ RIDGE
QUADRANT: SE
WEST_LONGITUDE: -114 11 15.00000
EAST_LONGITUDE: -114 7 30.00000
NORTH_LATITUDE: 48 48 45.00000
SOUTH_LATITUDE: 48 45 0.00000
PRODUCTION_DATE: 1994 10 13
RASTER_ORDER: LEFT_RIGHT/TOP_BOTTOM
BAND_ORGANIZATION: SINGLE FILE
BAND_CONTENT: BLACK&WHITE
BAND_CONTENT: UNDEFINED
BAND_CONTENT: UNDEFINED
BITS_PER_PIXEL: 8
SAMPLES_AND_LINES: 5524 7727
HORIZONTAL_DATUM: NAD83
HORIZONTAL_COORDINATE_SYSTEM: UTM
COORDINATE_ZONE: 11
HORIZONTAL_UNITS: METERS
HORIZONTAL_RESOLUTION: 1.00000
SECONDARY_HORIZONTAL_DATUM: NAD27
XY_ORIGIN: 706101.00000 5410900.00000
SECONDARY_XY_ORIGIN: 706178.47100 5410686.81300
NATION: US
STATE: MT
NW_QUAD_CORNER_XY: 706473.49100 5410427.75600
NE_QUAD_CORNER_XY: 711061.28700 5410599.25900
SE_QUAD_CORNERY_XY: 711323.69400 5403652.84100
SW_QUAD_CORNER_XY: 706730.18600 5403481.28900
SECONDARY_NW_QUAD_XY: 706480.09900 5410208.87600
SECONDARY_NE_QUAD_XY: 711068.04200 5410380.38400
SECONDARY_SE_QUAD_XY: 711330.44800 5403433.97100
SECONDARY_SW_QUAD_XY: 706736.79300 5403262.41300
RMSE_XY: 1.60000
IMAGE_SOURCE: BLACK AND WHITE FILM
SOURCE_IMAGE_ID: NAPP 2662 046
SOURCE_IMAGE_DATE: 1991 8 30
SOURCE_DEM_DATE: 1994 10 13
AGENCY: WESTERN MAPPING CENTER (WMC)
PRODUCER: Science Applications International
PRODUCTION_SYSTEM: GIS/MAGIC
COMPRESSION: UNDEFINED
STANDARD_VERSION: 1996 12
METADATA_DATE: 1997 7 27
DATA_FILE_SIZE: 42689472
BYTE_COUNT: 5524
