FILENAME: O4811414.NES.48300.tif
QUADRANGLE_NAME: POLEBRIDGE
QUADRANT: NE
WEST_LONGITUDE: -114 18 45.00000
EAST_LONGITUDE: -114 15 0.00000
NORTH_LATITUDE: 48 52 30.00000
SOUTH_LATITUDE: 48 48 45.00000
PRODUCTION_DATE: 1994 10 13
RASTER_ORDER: LEFT_RIGHT/TOP_BOTTOM
BAND_ORGANIZATION: SINGLE FILE
BAND_CONTENT: BLACK&WHITE
BAND_CONTENT: UNDEFINED
BAND_CONTENT: UNDEFINED
BITS_PER_PIXEL: 8
SAMPLES_AND_LINES: 5507 7719
HORIZONTAL_DATUM: NAD83
HORIZONTAL_COORDINATE_SYSTEM: UTM
COORDINATE_ZONE: 11
HORIZONTAL_UNITS: METERS
HORIZONTAL_RESOLUTION: 1.00000
SECONDARY_HORIZONTAL_DATUM: NAD27
XY_ORIGIN: 696680.00000 5417507.00000
SECONDARY_XY_ORIGIN: 696757.53500 5417293.68700
NATION: US
STATE: MT
NW_QUAD_CORNER_XY: 697052.29300 5417042.69400
NE_QUAD_CORNER_XY: 701634.43700 5417206.60100
SE_QUAD_CORNERY_XY: 701885.66200 5410260.02700
SW_QUAD_CORNER_XY: 697297.80200 5410096.07200
SECONDARY_NW_QUAD_XY: 697058.60700 5416823.80000
SECONDARY_NE_QUAD_XY: 701640.89800 5416987.71200
SECONDARY_SE_QUAD_XY: 701892.12300 5410041.14100
SECONDARY_SW_QUAD_XY: 697304.11500 5409877.18100
RMSE_XY: 2.50000
IMAGE_SOURCE: BLACK AND WHITE FILM
SOURCE_IMAGE_ID: NAPP 2662 078
SOURCE_IMAGE_DATE: 1991 8 30
SOURCE_DEM_DATE: 1994 10 13
AGENCY: WESTERN MAPPING CENTER (WMC)
PRODUCER: Science Applications International
PRODUCTION_SYSTEM: GIS/MAGIC
COMPRESSION: UNDEFINED
STANDARD_VERSION: 1996 12
METADATA_DATE: 1997 7 27
DATA_FILE_SIZE: 42514040
BYTE_COUNT: 5507
