FILENAME: O4811414.SES.48302.tif
QUADRANGLE_NAME: POLEBRIDGE
QUADRANT: SE
WEST_LONGITUDE: -114 18 45.00000
EAST_LONGITUDE: -114 15 0.00000
NORTH_LATITUDE: 48 48 45.00000
SOUTH_LATITUDE: 48 45 0.00000
PRODUCTION_DATE: 1994 10 13
RASTER_ORDER: LEFT_RIGHT/TOP_BOTTOM
BAND_ORGANIZATION: SINGLE FILE
BAND_CONTENT: BLACK&WHITE
BAND_CONTENT: UNDEFINED
BAND_CONTENT: UNDEFINED
BITS_PER_PIXEL: 8
SAMPLES_AND_LINES: 5513 7720
HORIZONTAL_DATUM: NAD83
HORIZONTAL_COORDINATE_SYSTEM: UTM
COORDINATE_ZONE: 11
HORIZONTAL_UNITS: METERS
HORIZONTAL_RESOLUTION: 1.00000
SECONDARY_HORIZONTAL_DATUM: NAD27
XY_ORIGIN: 696925.00000 5410561.00000
SECONDARY_XY_ORIGIN: 697002.55700 5410347.81900
NATION: US
STATE: MT
NW_QUAD_CORNER_XY: 697297.80200 5410096.07200
NE_QUAD_CORNER_XY: 701885.66200 5410260.02700
SE_QUAD_CORNERY_XY: 702136.64600 5403313.51200
SW_QUAD_CORNER_XY: 697543.07400 5403149.50900
SECONDARY_NW_QUAD_XY: 697304.11500 5409877.18100
SECONDARY_NE_QUAD_XY: 701892.12300 5410041.14100
SECONDARY_SE_QUAD_XY: 702143.10600 5403094.63000
SECONDARY_SW_QUAD_XY: 697549.38800 5402930.62300
RMSE_XY: 1.90000
IMAGE_SOURCE: BLACK AND WHITE FILM
SOURCE_IMAGE_ID: NAPP 2662 080
SOURCE_IMAGE_DATE: 1991 8 30
SOURCE_DEM_DATE: 1994 10 13
AGENCY: WESTERN MAPPING CENTER (WMC)
PRODUCER: Science Applications International
PRODUCTION_SYSTEM: GIS/MAGIC
COMPRESSION: UNDEFINED
STANDARD_VERSION: 1996 12
METADATA_DATE: 1997 7 27
DATA_FILE_SIZE: 42565873
BYTE_COUNT: 5513
