FILENAME: O4811412.NWS.48621.tif
QUADRANGLE_NAME: RED MEADOW LAKE
QUADRANT: NW
WEST_LONGITUDE: -114 37 30.00000
EAST_LONGITUDE: -114 33 45.00000
NORTH_LATITUDE: 48 52 30.00000
SOUTH_LATITUDE: 48 48 45.00000
PRODUCTION_DATE: 1994 10 13
RASTER_ORDER: LEFT_RIGHT/TOP_BOTTOM
BAND_ORGANIZATION: SINGLE FILE
BAND_CONTENT: BLACK&WHITE
BAND_CONTENT: UNDEFINED
BAND_CONTENT: UNDEFINED
BITS_PER_PIXEL: 8
SAMPLES_AND_LINES: 5481 7700
HORIZONTAL_DATUM: NAD83
HORIZONTAL_COORDINATE_SYSTEM: UTM
COORDINATE_ZONE: 11
HORIZONTAL_UNITS: METERS
HORIZONTAL_RESOLUTION: 1.00000
SECONDARY_HORIZONTAL_DATUM: NAD27
XY_ORIGIN: 673767.00000 5416725.00000
SECONDARY_XY_ORIGIN: 673844.72400 5416511.72800
NATION: US
STATE: MT
NW_QUAD_CORNER_XY: 674141.11300 5416279.73900
NE_QUAD_CORNER_XY: 678723.40800 5416424.78700
SE_QUAD_CORNERY_XY: 678946.05500 5409477.98400
SW_QUAD_CORNER_XY: 674358.04600 5409332.89300
SECONDARY_NW_QUAD_XY: 674146.69300 5416060.82000
SECONDARY_NE_QUAD_XY: 678729.13400 5416205.87300
SECONDARY_SE_QUAD_XY: 678951.78100 5409259.07300
SECONDARY_SW_QUAD_XY: 674363.62600 5409113.97800
RMSE_XY: 3.10000
IMAGE_SOURCE: BLACK AND WHITE FILM
SOURCE_IMAGE_ID: NAPP 2664 014
SOURCE_IMAGE_DATE: 1991 9 4
SOURCE_DEM_DATE: 1994 10 13
AGENCY: WESTERN MAPPING CENTER (WMC)
PRODUCER: Science Applications International
PRODUCTION_SYSTEM: GIS/MAGIC
COMPRESSION: UNDEFINED
STANDARD_VERSION: 1996 12
METADATA_DATE: 1997 7 16
DATA_FILE_SIZE: 42209181
BYTE_COUNT: 5481
