FILENAME: O4811412.SES.48622.tif
QUADRANGLE_NAME: RED MEADOW LAKE
QUADRANT: SE
WEST_LONGITUDE: -114 33 45.00000
EAST_LONGITUDE: -114 30 0.00000
NORTH_LATITUDE: 48 48 45.00000
SOUTH_LATITUDE: 48 45 0.00000
PRODUCTION_DATE: 1994 10 13
RASTER_ORDER: LEFT_RIGHT/TOP_BOTTOM
BAND_ORGANIZATION: SINGLE FILE
BAND_CONTENT: BLACK&WHITE
BAND_CONTENT: UNDEFINED
BAND_CONTENT: UNDEFINED
BITS_PER_PIXEL: 8
SAMPLES_AND_LINES: 5491 7704
HORIZONTAL_DATUM: NAD83
HORIZONTAL_COORDINATE_SYSTEM: UTM
COORDINATE_ZONE: 11
HORIZONTAL_UNITS: METERS
HORIZONTAL_RESOLUTION: 1.00000
SECONDARY_HORIZONTAL_DATUM: NAD27
XY_ORIGIN: 678573.00000 5409927.00000
SECONDARY_XY_ORIGIN: 678650.69700 5409713.82500
NATION: US
STATE: MT
NW_QUAD_CORNER_XY: 678946.05500 5409477.98400
NE_QUAD_CORNER_XY: 683534.03600 5409626.84700
SE_QUAD_CORNERY_XY: 683762.17800 5402680.14900
SW_QUAD_CORNER_XY: 679168.48800 5402531.24300
SECONDARY_NW_QUAD_XY: 678951.78100 5409259.07300
SECONDARY_NE_QUAD_XY: 683539.90900 5409407.94100
SECONDARY_SE_QUAD_XY: 683768.05100 5402461.24700
SECONDARY_SW_QUAD_XY: 679174.21400 5402312.33700
RMSE_XY: 4.50000
IMAGE_SOURCE: BLACK AND WHITE FILM
SOURCE_IMAGE_ID: NAPP 2662 150
SOURCE_IMAGE_DATE: 1991 8 30
SOURCE_DEM_DATE: 1994 10 13
AGENCY: WESTERN MAPPING CENTER (WMC)
PRODUCER: Science Applications International
PRODUCTION_SYSTEM: GIS/MAGIC
COMPRESSION: UNDEFINED
STANDARD_VERSION: 1996 12
METADATA_DATE: 1997 7 16
DATA_FILE_SIZE: 42308155
BYTE_COUNT: 5491
