FILENAME: O4811411.SWS.48827.tif
QUADRANGLE_NAME: MOUNT THOMPSON-SETON
QUADRANT: SW
WEST_LONGITUDE: -114 45 0.00000
EAST_LONGITUDE: -114 41 15.00000
NORTH_LATITUDE: 48 48 45.00000
SOUTH_LATITUDE: 48 45 0.00000
PRODUCTION_DATE: 1994 10 13
RASTER_ORDER: LEFT_RIGHT/TOP_BOTTOM
BAND_ORGANIZATION: SINGLE FILE
BAND_CONTENT: BLACK&WHITE
BAND_CONTENT: UNDEFINED
BAND_CONTENT: UNDEFINED
BITS_PER_PIXEL: 8
SAMPLES_AND_LINES: 5475 7693
HORIZONTAL_DATUM: NAD83
HORIZONTAL_COORDINATE_SYSTEM: UTM
COORDINATE_ZONE: 11
HORIZONTAL_UNITS: METERS
HORIZONTAL_RESOLUTION: 1.00000
SECONDARY_HORIZONTAL_DATUM: NAD27
XY_ORIGIN: 664808.00000 5409492.00000
SECONDARY_XY_ORIGIN: 664885.72500 5409278.85600
NATION: US
STATE: MT
NW_QUAD_CORNER_XY: 665181.94700 5409054.02800
NE_QUAD_CORNER_XY: 669770.01000 5409191.57500
SE_QUAD_CORNERY_XY: 669981.02600 5402244.75100
SW_QUAD_CORNER_XY: 665387.25500 5402107.16500
SECONDARY_NW_QUAD_XY: 665187.23200 5408835.10400
SECONDARY_NE_QUAD_XY: 669775.44200 5408972.65500
SECONDARY_SE_QUAD_XY: 669986.45800 5402025.83600
SECONDARY_SW_QUAD_XY: 665392.54000 5401888.24500
RMSE_XY: 3.70000
IMAGE_SOURCE: BLACK AND WHITE FILM
SOURCE_IMAGE_ID: NAPP 2648 042
SOURCE_IMAGE_DATE: 1990 8 16
SOURCE_DEM_DATE: 1994 10 13
AGENCY: WESTERN MAPPING CENTER (WMC)
PRODUCER: Science Applications International
PRODUCTION_SYSTEM: GIS/MAGIC
COMPRESSION: UNDEFINED
STANDARD_VERSION: 1996 12
METADATA_DATE: 1997 7 15
DATA_FILE_SIZE: 42124650
BYTE_COUNT: 5475
