FILENAME: O4811410.NES.49007.tif
QUADRANGLE_NAME: MOUNT MARSTON
QUADRANT: NE
WEST_LONGITUDE: -114 48 45.00000
EAST_LONGITUDE: -114 45 0.00000
NORTH_LATITUDE: 48 52 30.00000
SOUTH_LATITUDE: 48 48 45.00000
PRODUCTION_DATE: 1994 10 13
RASTER_ORDER: LEFT_RIGHT/TOP_BOTTOM
BAND_ORGANIZATION: SINGLE FILE
BAND_CONTENT: BLACK&WHITE
BAND_CONTENT: UNDEFINED
BAND_CONTENT: UNDEFINED
BITS_PER_PIXEL: 8
SAMPLES_AND_LINES: 5463 7689
HORIZONTAL_DATUM: NAD83
HORIZONTAL_COORDINATE_SYSTEM: UTM
COORDINATE_ZONE: 11
HORIZONTAL_UNITS: METERS
HORIZONTAL_RESOLUTION: 1.00000
SECONDARY_HORIZONTAL_DATUM: NAD27
XY_ORIGIN: 660020.00000 5416301.00000
SECONDARY_XY_ORIGIN: 660097.78400 5416087.78000
NATION: US
STATE: MT
NW_QUAD_CORNER_XY: 660394.06500 5415867.21900
NE_QUAD_CORNER_XY: 664976.44100 5416000.95500
SE_QUAD_CORNERY_XY: 665181.94700 5409054.02800
SW_QUAD_CORNER_XY: 660593.85700 5408920.25300
SECONDARY_NW_QUAD_XY: 660399.20400 5415648.28700
SECONDARY_NE_QUAD_XY: 664981.72600 5415782.02800
SECONDARY_SE_QUAD_XY: 665187.23200 5408835.10400
SECONDARY_SW_QUAD_XY: 660598.99600 5408701.32400
RMSE_XY: 2.40000
IMAGE_SOURCE: BLACK AND WHITE FILM
SOURCE_IMAGE_ID: NAPP 2662 165
SOURCE_IMAGE_DATE: 1991 8 30
SOURCE_DEM_DATE: 1994 10 13
AGENCY: WESTERN MAPPING CENTER (WMC)
PRODUCER: Science Applications International
PRODUCTION_SYSTEM: GIS/MAGIC
COMPRESSION: UNDEFINED
STANDARD_VERSION: 1996 12
METADATA_DATE: 1997 7 16
DATA_FILE_SIZE: 42010470
BYTE_COUNT: 5463
