FILENAME: O4811409.NES.49144.tif
QUADRANGLE_NAME: FORTINE
QUADRANT: NE
WEST_LONGITUDE: -114 56 15.00000
EAST_LONGITUDE: -114 52 30.00000
NORTH_LATITUDE: 48 52 30.00000
SOUTH_LATITUDE: 48 48 45.00000
PRODUCTION_DATE: 1994 11 4
RASTER_ORDER: LEFT_RIGHT/TOP_BOTTOM
BAND_ORGANIZATION: SINGLE FILE
BAND_CONTENT: BLACK&WHITE
BAND_CONTENT: UNDEFINED
BAND_CONTENT: UNDEFINED
BITS_PER_PIXEL: 8
SAMPLES_AND_LINES: 5452 7682
HORIZONTAL_DATUM: NAD83
HORIZONTAL_COORDINATE_SYSTEM: UTM
COORDINATE_ZONE: 11
HORIZONTAL_UNITS: METERS
HORIZONTAL_RESOLUTION: 1.00000
SECONDARY_HORIZONTAL_DATUM: NAD27
XY_ORIGIN: 650855.00000 5416038.00000
SECONDARY_XY_ORIGIN: 650932.79200 5415824.82400
NATION: US
STATE: MT
NW_QUAD_CORNER_XY: 651229.23600 5415611.05700
NE_QUAD_CORNER_XY: 655811.66300 5415737.25300
SE_QUAD_CORNERY_XY: 656005.74300 5408790.24900
SW_QUAD_CORNER_XY: 651417.60400 5408664.01600
SECONDARY_NW_QUAD_XY: 651234.08100 5415392.11700
SECONDARY_NE_QUAD_XY: 655816.65500 5415518.31700
SECONDARY_SE_QUAD_XY: 656010.73500 5408571.31600
SECONDARY_SW_QUAD_XY: 651422.44900 5408445.07900
RMSE_XY: 2.30000
IMAGE_SOURCE: BLACK AND WHITE FILM
SOURCE_IMAGE_ID: NAPP 2644 085
SOURCE_IMAGE_DATE: 1990 8 6
SOURCE_DEM_DATE: 1994 11 4
AGENCY: WESTERN MAPPING CENTER (WMC)
PRODUCER: Science Applications International
PRODUCTION_SYSTEM: GIS/MAGIC
COMPRESSION: UNDEFINED
STANDARD_VERSION: 1996 12
METADATA_DATE: 1997 7 27
DATA_FILE_SIZE: 41887716
BYTE_COUNT: 5452
