FILENAME: O4811409.NWS.49145.tif
QUADRANGLE_NAME: FORTINE
QUADRANT: NW
WEST_LONGITUDE: -115 0 0.00000
EAST_LONGITUDE: -114 56 15.00000
NORTH_LATITUDE: 48 52 30.00000
SOUTH_LATITUDE: 48 48 45.00000
PRODUCTION_DATE: 1994 11 4
RASTER_ORDER: LEFT_RIGHT/TOP_BOTTOM
BAND_ORGANIZATION: SINGLE FILE
BAND_CONTENT: BLACK&WHITE
BAND_CONTENT: UNDEFINED
BAND_CONTENT: UNDEFINED
BITS_PER_PIXEL: 8
SAMPLES_AND_LINES: 5447 7679
HORIZONTAL_DATUM: NAD83
HORIZONTAL_COORDINATE_SYSTEM: UTM
COORDINATE_ZONE: 11
HORIZONTAL_UNITS: METERS
HORIZONTAL_RESOLUTION: 1.00000
SECONDARY_HORIZONTAL_DATUM: NAD27
XY_ORIGIN: 646272.00000 5415912.00000
SECONDARY_XY_ORIGIN: 646349.79600 5415698.84600
NATION: US
STATE: MT
NW_QUAD_CORNER_XY: 646646.78500 5415488.63000
NE_QUAD_CORNER_XY: 651229.23600 5415611.05700
SE_QUAD_CORNERY_XY: 651417.60400 5408664.01600
SW_QUAD_CORNER_XY: 646829.44100 5408541.55300
SECONDARY_NW_QUAD_XY: 646651.48400 5415269.68600
SECONDARY_NE_QUAD_XY: 651234.08100 5415392.11700
SECONDARY_SE_QUAD_XY: 651422.44900 5408445.07900
SECONDARY_SW_QUAD_XY: 646834.14000 5408322.61300
RMSE_XY: 2.50000
IMAGE_SOURCE: BLACK AND WHITE FILM
SOURCE_IMAGE_ID: NAPP 2651 008
SOURCE_IMAGE_DATE: 1990 9 10
SOURCE_DEM_DATE: 1994 11 4
AGENCY: WESTERN MAPPING CENTER (WMC)
PRODUCER: Science Applications International
PRODUCTION_SYSTEM: GIS/MAGIC
COMPRESSION: UNDEFINED
STANDARD_VERSION: 1996 12
METADATA_DATE: 1997 7 27
DATA_FILE_SIZE: 41832960
BYTE_COUNT: 5447
