FILENAME: O4811406.NWS.48297.tif
QUADRANGLE_NAME: KINTLA LAKE
QUADRANT: NW
WEST_LONGITUDE: -114 22 30.00000
EAST_LONGITUDE: -114 18 45.00000
NORTH_LATITUDE: 49 0 0.00000
SOUTH_LATITUDE: 48 56 15.00000
PRODUCTION_DATE: 1994 10 13
RASTER_ORDER: LEFT_RIGHT/TOP_BOTTOM
BAND_ORGANIZATION: SINGLE FILE
BAND_CONTENT: BLACK&WHITE
BAND_CONTENT: UNDEFINED
BAND_CONTENT: UNDEFINED
BITS_PER_PIXEL: 8
SAMPLES_AND_LINES: 5491 7716
HORIZONTAL_DATUM: NAD83
HORIZONTAL_COORDINATE_SYSTEM: UTM
COORDINATE_ZONE: 11
HORIZONTAL_UNITS: METERS
HORIZONTAL_RESOLUTION: 1.00000
SECONDARY_HORIZONTAL_DATUM: NAD27
XY_ORIGIN: 691617.00000 5431237.00000
SECONDARY_XY_ORIGIN: 691694.54600 5431023.44200
NATION: US
STATE: MT
NW_QUAD_CORNER_XY: 691989.84100 5430776.07700
NE_QUAD_CORNER_XY: 696560.56800 5430936.11500
SE_QUAD_CORNERY_XY: 696806.54800 5423989.37500
SW_QUAD_CORNER_XY: 692230.09400 5423829.28800
SECONDARY_NW_QUAD_XY: 691996.00800 5430557.17300
SECONDARY_NE_QUAD_XY: 696566.88200 5430717.21700
SECONDARY_SE_QUAD_XY: 696812.86200 5423770.47800
SECONDARY_SW_QUAD_XY: 692236.26100 5423610.38600
RMSE_XY: 0.60000
IMAGE_SOURCE: BLACK AND WHITE FILM
SOURCE_IMAGE_ID: NAPP 2662 109
SOURCE_IMAGE_DATE: 1991 8 30
SOURCE_DEM_DATE: 1994 10 13
AGENCY: WESTERN MAPPING CENTER (WMC)
PRODUCER: Science Applications International
PRODUCTION_SYSTEM: GIS/MAGIC
COMPRESSION: UNDEFINED
STANDARD_VERSION: 1996 12
METADATA_DATE: 1997 7 15
DATA_FILE_SIZE: 42374047
BYTE_COUNT: 5491
