FILENAME: O4811406.SES.48298.tif
QUADRANGLE_NAME: KINTLA LAKE
QUADRANT: SE
WEST_LONGITUDE: -114 18 45.00000
EAST_LONGITUDE: -114 15 0.00000
NORTH_LATITUDE: 48 56 15.00000
SOUTH_LATITUDE: 48 52 30.00000
PRODUCTION_DATE: 1994 10 13
RASTER_ORDER: LEFT_RIGHT/TOP_BOTTOM
BAND_ORGANIZATION: SINGLE FILE
BAND_CONTENT: BLACK&WHITE
BAND_CONTENT: UNDEFINED
BAND_CONTENT: UNDEFINED
BITS_PER_PIXEL: 8
SAMPLES_AND_LINES: 5502 7719
HORIZONTAL_DATUM: NAD83
HORIZONTAL_COORDINATE_SYSTEM: UTM
COORDINATE_ZONE: 11
HORIZONTAL_UNITS: METERS
HORIZONTAL_RESOLUTION: 1.00000
SECONDARY_HORIZONTAL_DATUM: NAD27
XY_ORIGIN: 696434.00000 5424454.00000
SECONDARY_XY_ORIGIN: 696511.51300 5424240.55700
NATION: US
STATE: MT
NW_QUAD_CORNER_XY: 696806.54800 5423989.37500
NE_QUAD_CORNER_XY: 701382.97100 5424153.23300
SE_QUAD_CORNERY_XY: 701634.43700 5417206.60100
SW_QUAD_CORNER_XY: 697052.29300 5417042.69400
SECONDARY_NW_QUAD_XY: 696812.86200 5423770.47800
SECONDARY_NE_QUAD_XY: 701389.43100 5423934.34200
SECONDARY_SE_QUAD_XY: 701640.89800 5416987.71200
SECONDARY_SW_QUAD_XY: 697058.60700 5416823.80000
RMSE_XY: 1.20000
IMAGE_SOURCE: BLACK AND WHITE FILM
SOURCE_IMAGE_ID: NAPP 2650 031
SOURCE_IMAGE_DATE: 1990 9 7
SOURCE_DEM_DATE: 1994 10 13
AGENCY: WESTERN MAPPING CENTER (WMC)
PRODUCER: Science Applications International
PRODUCTION_SYSTEM: GIS/MAGIC
COMPRESSION: UNDEFINED
STANDARD_VERSION: 1996 12
METADATA_DATE: 1997 7 15
DATA_FILE_SIZE: 42475440
BYTE_COUNT: 5502
