FILENAME: O4811405.NES.48436.tif
QUADRANGLE_NAME: TRAILCREEK
QUADRANT: NE
WEST_LONGITUDE: -114 26 15.00000
EAST_LONGITUDE: -114 22 30.00000
NORTH_LATITUDE: 49 0 0.00000
SOUTH_LATITUDE: 48 56 15.00000
PRODUCTION_DATE: 1994 11 4
RASTER_ORDER: LEFT_RIGHT/TOP_BOTTOM
BAND_ORGANIZATION: SINGLE FILE
BAND_CONTENT: BLACK&WHITE
BAND_CONTENT: UNDEFINED
BAND_CONTENT: UNDEFINED
BITS_PER_PIXEL: 8
SAMPLES_AND_LINES: 5486 7712
HORIZONTAL_DATUM: NAD83
HORIZONTAL_COORDINATE_SYSTEM: UTM
COORDINATE_ZONE: 11
HORIZONTAL_UNITS: METERS
HORIZONTAL_RESOLUTION: 1.00000
SECONDARY_HORIZONTAL_DATUM: NAD27
XY_ORIGIN: 687046.00000 5431077.00000
SECONDARY_XY_ORIGIN: 687123.60200 5430863.45700
NATION: US
NATION: CA
STATE: MT
NW_QUAD_CORNER_XY: 687419.08100 5430619.80800
NE_QUAD_CORNER_XY: 691989.84100 5430776.07700
SE_QUAD_CORNERY_XY: 692230.09400 5423829.28800
SW_QUAD_CORNER_XY: 687653.60800 5423672.97200
SECONDARY_NW_QUAD_XY: 687425.10200 5430400.90000
SECONDARY_NE_QUAD_XY: 691996.00800 5430557.17300
SECONDARY_SE_QUAD_XY: 692236.26100 5423610.38600
SECONDARY_SW_QUAD_XY: 687659.62900 5423454.06600
RMSE_XY: 1.80000
IMAGE_SOURCE: BLACK AND WHITE FILM
SOURCE_IMAGE_ID: NAPP 2662 114
SOURCE_IMAGE_DATE: 1991 8 30
SOURCE_DEM_DATE: 1994 11 4
AGENCY: WESTERN MAPPING CENTER (WMC)
PRODUCER: Science Applications International
PRODUCTION_SYSTEM: GIS/MAGIC
COMPRESSION: UNDEFINED
STANDARD_VERSION: 1996 12
METADATA_DATE: 1997 7 27
DATA_FILE_SIZE: 42313518
BYTE_COUNT: 5486
