FILENAME: O4811404.SWS.48619.tif
QUADRANGLE_NAME: MOUNT HEFTY
QUADRANT: SW
WEST_LONGITUDE: -114 37 30.00000
EAST_LONGITUDE: -114 33 45.00000
NORTH_LATITUDE: 48 56 15.00000
SOUTH_LATITUDE: 48 52 30.00000
PRODUCTION_DATE: 1994 11 4
RASTER_ORDER: LEFT_RIGHT/TOP_BOTTOM
BAND_ORGANIZATION: SINGLE FILE
BAND_CONTENT: BLACK&WHITE
BAND_CONTENT: UNDEFINED
BAND_CONTENT: UNDEFINED
BITS_PER_PIXEL: 8
SAMPLES_AND_LINES: 5475 7700
HORIZONTAL_DATUM: NAD83
HORIZONTAL_COORDINATE_SYSTEM: UTM
COORDINATE_ZONE: 11
HORIZONTAL_UNITS: METERS
HORIZONTAL_RESOLUTION: 1.00000
SECONDARY_HORIZONTAL_DATUM: NAD27
XY_ORIGIN: 673550.00000 5423672.00000
SECONDARY_XY_ORIGIN: 673627.74100 5423458.62200
NATION: US
STATE: MT
NW_QUAD_CORNER_XY: 673923.97100 5423226.64700
NE_QUAD_CORNER_XY: 678500.54600 5423371.65200
SE_QUAD_CORNERY_XY: 678723.40800 5416424.78700
SW_QUAD_CORNER_XY: 674141.11300 5416279.73900
SECONDARY_NW_QUAD_XY: 673929.55100 5423007.72600
SECONDARY_NE_QUAD_XY: 678506.27300 5423152.73600
SECONDARY_SE_QUAD_XY: 678729.13400 5416205.87300
SECONDARY_SW_QUAD_XY: 674146.69300 5416060.82000
RMSE_XY: 1.80000
IMAGE_SOURCE: BLACK AND WHITE FILM
SOURCE_IMAGE_ID: NAPP 2664 016
SOURCE_IMAGE_DATE: 1991 9 4
SOURCE_DEM_DATE: 1994 11 4
AGENCY: WESTERN MAPPING CENTER (WMC)
PRODUCER: Science Applications International
PRODUCTION_SYSTEM: GIS/MAGIC
COMPRESSION: UNDEFINED
STANDARD_VERSION: 1996 12
METADATA_DATE: 1997 7 27
DATA_FILE_SIZE: 42162975
BYTE_COUNT: 5475
