FILENAME: O4811403.NWS.48821.tif
QUADRANGLE_NAME: TUCHUCK MOUNTAIN
QUADRANT: NW
WEST_LONGITUDE: -114 45 0.00000
EAST_LONGITUDE: -114 41 15.00000
NORTH_LATITUDE: 49 0 0.00000
SOUTH_LATITUDE: 48 56 15.00000
PRODUCTION_DATE: 1994 10 13
RASTER_ORDER: LEFT_RIGHT/TOP_BOTTOM
BAND_ORGANIZATION: SINGLE FILE
BAND_CONTENT: BLACK&WHITE
BAND_CONTENT: UNDEFINED
BAND_CONTENT: UNDEFINED
BITS_PER_PIXEL: 8
SAMPLES_AND_LINES: 5458 7693
HORIZONTAL_DATUM: NAD83
HORIZONTAL_COORDINATE_SYSTEM: UTM
COORDINATE_ZONE: 11
HORIZONTAL_UNITS: METERS
HORIZONTAL_RESOLUTION: 1.00000
SECONDARY_HORIZONTAL_DATUM: NAD27
XY_ORIGIN: 664191.00000 5430333.00000
SECONDARY_XY_ORIGIN: 664268.86200 5430119.55800
NATION: US
NATION: CA
STATE: MT
NW_QUAD_CORNER_XY: 664564.83600 5429895.00200
NE_QUAD_CORNER_XY: 669135.74300 5430032.42600
SE_QUAD_CORNERY_XY: 669347.36800 5423085.41200
SW_QUAD_CORNER_XY: 664770.73700 5422947.94600
SECONDARY_NW_QUAD_XY: 664570.12200 5429676.07000
SECONDARY_NE_QUAD_XY: 669141.17500 5429813.49800
SECONDARY_SE_QUAD_XY: 669352.80100 5422866.48600
SECONDARY_SW_QUAD_XY: 664776.02300 5422729.01600
RMSE_XY: 2.20000
IMAGE_SOURCE: BLACK AND WHITE FILM
SOURCE_IMAGE_ID: NAPP 2663 027
SOURCE_IMAGE_DATE: 1991 9 4
SOURCE_DEM_DATE: 1994 10 13
AGENCY: WESTERN MAPPING CENTER (WMC)
PRODUCER: Science Applications International
PRODUCTION_SYSTEM: GIS/MAGIC
COMPRESSION: UNDEFINED
STANDARD_VERSION: 1996 12
METADATA_DATE: 1997 7 15
DATA_FILE_SIZE: 41993852
BYTE_COUNT: 5458
