FILENAME: O4811403.SES.48822.tif
QUADRANGLE_NAME: TUCHUCK MOUNTAIN
QUADRANT: SE
WEST_LONGITUDE: -114 41 15.00000
EAST_LONGITUDE: -114 37 30.00000
NORTH_LATITUDE: 48 56 15.00000
SOUTH_LATITUDE: 48 52 30.00000
PRODUCTION_DATE: 1994 10 13
RASTER_ORDER: LEFT_RIGHT/TOP_BOTTOM
BAND_ORGANIZATION: SINGLE FILE
BAND_CONTENT: BLACK&WHITE
BAND_CONTENT: UNDEFINED
BAND_CONTENT: UNDEFINED
BITS_PER_PIXEL: 8
SAMPLES_AND_LINES: 5469 7697
HORIZONTAL_DATUM: NAD83
HORIZONTAL_COORDINATE_SYSTEM: UTM
COORDINATE_ZONE: 11
HORIZONTAL_UNITS: METERS
HORIZONTAL_RESOLUTION: 1.00000
SECONDARY_HORIZONTAL_DATUM: NAD27
XY_ORIGIN: 668974.00000 5423527.00000
SECONDARY_XY_ORIGIN: 669051.77900 5423313.63900
NATION: US
STATE: MT
NW_QUAD_CORNER_XY: 669347.36800 5423085.41200
NE_QUAD_CORNER_XY: 673923.97100 5423226.64700
SE_QUAD_CORNERY_XY: 674141.11300 5416279.73900
SW_QUAD_CORNER_XY: 669558.79000 5416138.46200
SECONDARY_NW_QUAD_XY: 669352.80100 5422866.48600
SECONDARY_NE_QUAD_XY: 673929.55100 5423007.72600
SECONDARY_SE_QUAD_XY: 674146.69300 5416060.82000
SECONDARY_SW_QUAD_XY: 669564.22300 5415919.53900
RMSE_XY: 2.80000
IMAGE_SOURCE: BLACK AND WHITE FILM
SOURCE_IMAGE_ID: NAPP 2663 034
SOURCE_IMAGE_DATE: 1991 9 4
SOURCE_DEM_DATE: 1994 10 13
AGENCY: WESTERN MAPPING CENTER (WMC)
PRODUCER: Science Applications International
PRODUCTION_SYSTEM: GIS/MAGIC
COMPRESSION: UNDEFINED
STANDARD_VERSION: 1996 12
METADATA_DATE: 1997 7 15
DATA_FILE_SIZE: 42100362
BYTE_COUNT: 5469
