FILENAME: O4811402.NES.49003.tif
QUADRANGLE_NAME: STAHL PEAK
QUADRANT: NE
WEST_LONGITUDE: -114 48 45.00000
EAST_LONGITUDE: -114 45 0.00000
NORTH_LATITUDE: 49 0 0.00000
SOUTH_LATITUDE: 48 56 15.00000
PRODUCTION_DATE: 1994 10 13
RASTER_ORDER: LEFT_RIGHT/TOP_BOTTOM
BAND_ORGANIZATION: SINGLE FILE
BAND_CONTENT: BLACK&WHITE
BAND_CONTENT: UNDEFINED
BAND_CONTENT: UNDEFINED
BITS_PER_PIXEL: 8
SAMPLES_AND_LINES: 5452 7690
HORIZONTAL_DATUM: NAD83
HORIZONTAL_COORDINATE_SYSTEM: UTM
COORDINATE_ZONE: 11
HORIZONTAL_UNITS: METERS
HORIZONTAL_RESOLUTION: 1.00000
SECONDARY_HORIZONTAL_DATUM: NAD27
XY_ORIGIN: 659620.00000 5430196.00000
SECONDARY_XY_ORIGIN: 659697.83900 5429982.58000
NATION: US
STATE: MT
NW_QUAD_CORNER_XY: 659993.90200 5429761.34600
NE_QUAD_CORNER_XY: 664564.83600 5429895.00200
SE_QUAD_CORNERY_XY: 664770.73700 5422947.94600
SW_QUAD_CORNER_XY: 660194.08000 5422814.25000
SECONDARY_NW_QUAD_XY: 659999.04100 5429542.40900
SECONDARY_NE_QUAD_XY: 664570.12200 5429676.07000
SECONDARY_SE_QUAD_XY: 664776.02300 5422729.01600
SECONDARY_SW_QUAD_XY: 660199.21800 5422595.31600
RMSE_XY: 2.70000
IMAGE_SOURCE: BLACK AND WHITE FILM
SOURCE_IMAGE_ID: NAPP 2662 161
SOURCE_IMAGE_DATE: 1991 8 30
SOURCE_DEM_DATE: 1994 10 13
AGENCY: WESTERN MAPPING CENTER (WMC)
PRODUCER: Science Applications International
PRODUCTION_SYSTEM: GIS/MAGIC
COMPRESSION: UNDEFINED
STANDARD_VERSION: 1996 12
METADATA_DATE: 1997 7 16
DATA_FILE_SIZE: 41931332
BYTE_COUNT: 5452
