FILENAME: O4811402.NWS.49004.tif
QUADRANGLE_NAME: STAHL PEAK
QUADRANT: NW
WEST_LONGITUDE: -114 52 30.00000
EAST_LONGITUDE: -114 48 45.00000
NORTH_LATITUDE: 49 0 0.00000
SOUTH_LATITUDE: 48 56 15.00000
PRODUCTION_DATE: 1994 10 13
RASTER_ORDER: LEFT_RIGHT/TOP_BOTTOM
BAND_ORGANIZATION: SINGLE FILE
BAND_CONTENT: BLACK&WHITE
BAND_CONTENT: UNDEFINED
BAND_CONTENT: UNDEFINED
BITS_PER_PIXEL: 8
SAMPLES_AND_LINES: 5447 7686
HORIZONTAL_DATUM: NAD83
HORIZONTAL_COORDINATE_SYSTEM: UTM
COORDINATE_ZONE: 11
HORIZONTAL_UNITS: METERS
HORIZONTAL_RESOLUTION: 1.00000
SECONDARY_HORIZONTAL_DATUM: NAD27
XY_ORIGIN: 655049.00000 5430062.00000
SECONDARY_XY_ORIGIN: 655126.81100 5429848.60000
NATION: US
STATE: MT
NW_QUAD_CORNER_XY: 655422.94200 5429631.45800
NE_QUAD_CORNER_XY: 659993.90200 5429761.34600
SE_QUAD_CORNERY_XY: 660194.08000 5422814.25000
SW_QUAD_CORNER_XY: 655617.39600 5422684.32300
SECONDARY_NW_QUAD_XY: 655427.93500 5429412.51700
SECONDARY_NE_QUAD_XY: 659999.04100 5429542.40900
SECONDARY_SE_QUAD_XY: 660199.21800 5422595.31600
SECONDARY_SW_QUAD_XY: 655622.38800 5422465.38400
RMSE_XY: 3.90000
IMAGE_SOURCE: BLACK AND WHITE FILM
SOURCE_IMAGE_ID: NAPP 2644 076
SOURCE_IMAGE_DATE: 1990 8 6
SOURCE_DEM_DATE: 1994 10 13
AGENCY: WESTERN MAPPING CENTER (WMC)
PRODUCER: Science Applications International
PRODUCTION_SYSTEM: GIS/MAGIC
COMPRESSION: UNDEFINED
STANDARD_VERSION: 1996 12
METADATA_DATE: 1997 7 16
DATA_FILE_SIZE: 41871089
BYTE_COUNT: 5447
