FILENAME: O4811564.SWS.56432.tif
QUADRANGLE_NAME: THOMPSON LAKES
QUADRANT: SW
WEST_LONGITUDE: -115 7 30.00000
EAST_LONGITUDE: -115 3 45.00000
NORTH_LATITUDE: 48 3 45.00000
SOUTH_LATITUDE: 48 0 0.00000
PRODUCTION_DATE: 1997 3 19
RASTER_ORDER: LEFT_RIGHT/TOP_BOTTOM
BAND_ORGANIZATION: SINGLE FILE
BAND_CONTENT: BLACK&WHITE
BAND_CONTENT: UNDEFINED
BAND_CONTENT: UNDEFINED
BITS_PER_PIXEL: 8
SAMPLES_AND_LINES: 5508 7673
HORIZONTAL_DATUM: NAD83
HORIZONTAL_COORDINATE_SYSTEM: UTM
COORDINATE_ZONE: 11
HORIZONTAL_UNITS: METERS
HORIZONTAL_RESOLUTION: 1.00000
SECONDARY_HORIZONTAL_DATUM: NAD27
XY_ORIGIN: 639320.00000 5325364.00000
SECONDARY_XY_ORIGIN: 639397.89100 5325152.66600
NATION: US
STATE: MT
NW_QUAD_CORNER_XY: 639694.91700 5324947.48000
NE_QUAD_CORNER_XY: 644351.22900 5325062.76100
SE_QUAD_CORNERY_XY: 644525.94100 5318116.52300
SW_QUAD_CORNER_XY: 639863.98900 5318001.21500
SECONDARY_NW_QUAD_XY: 639699.31900 5324728.63800
SECONDARY_NE_QUAD_XY: 644355.77800 5324843.92300
SECONDARY_SE_QUAD_XY: 644530.48900 5317897.70000
SECONDARY_SW_QUAD_XY: 639868.39100 5317782.38800
RMSE_XY: 2.00000
IMAGE_SOURCE: BLACK AND WHITE FILM
SOURCE_IMAGE_ID: NAPP 8420 107
SOURCE_IMAGE_DATE: 1995 8 20
SOURCE_DEM_DATE: 1997 3 19
AGENCY: WESTERN MAPPING CENTER (WMC)
PRODUCER: USFS
PRODUCTION_SYSTEM: DV2.6.3 10/9OV2.4 5/95
COMPRESSION: UNDEFINED
STANDARD_VERSION: 1996 12
METADATA_DATE: 1997 11 3
DATA_FILE_SIZE: 42268392
BYTE_COUNT: 5508
