FILENAME: O4811563.SWS.56472.tif
QUADRANGLE_NAME: LOON LAKE
QUADRANT: SW
WEST_LONGITUDE: -115 15 0.00000
EAST_LONGITUDE: -115 11 15.00000
NORTH_LATITUDE: 48 3 45.00000
SOUTH_LATITUDE: 48 0 0.00000
PRODUCTION_DATE: 1997 3 15
RASTER_ORDER: LEFT_RIGHT/TOP_BOTTOM
BAND_ORGANIZATION: SINGLE FILE
BAND_CONTENT: BLACK&WHITE
BAND_CONTENT: UNDEFINED
BAND_CONTENT: UNDEFINED
BITS_PER_PIXEL: 8
SAMPLES_AND_LINES: 5496 7665
HORIZONTAL_DATUM: NAD83
HORIZONTAL_COORDINATE_SYSTEM: UTM
COORDINATE_ZONE: 11
HORIZONTAL_UNITS: METERS
HORIZONTAL_RESOLUTION: 1.00000
SECONDARY_HORIZONTAL_DATUM: NAD27
XY_ORIGIN: 630007.00000 5325137.00000
SECONDARY_XY_ORIGIN: 630085.24500 5324925.71400
NATION: US
STATE: MT
NW_QUAD_CORNER_XY: 630382.23900 5324728.26200
NE_QUAD_CORNER_XY: 635038.58600 5324835.98000
SE_QUAD_CORNERY_XY: 635202.02000 5317889.69000
SW_QUAD_CORNER_XY: 630540.03400 5317781.94700
SECONDARY_NW_QUAD_XY: 630386.34800 5324509.41400
SECONDARY_NE_QUAD_XY: 635042.84200 5324617.13500
SECONDARY_SE_QUAD_XY: 635206.27500 5317670.85900
SECONDARY_SW_QUAD_XY: 630544.14200 5317563.11300
RMSE_XY: 1.20000
IMAGE_SOURCE: BLACK AND WHITE FILM
SOURCE_IMAGE_ID: NAPP 8420 237
SOURCE_IMAGE_DATE: 1995 8 20
SOURCE_DEM_DATE: 1997 3 15
AGENCY: WESTERN MAPPING CENTER (WMC)
PRODUCER: USFS
PRODUCTION_SYSTEM: DV2.6.3 10/9OV2.4 5/95
COMPRESSION: UNDEFINED
STANDARD_VERSION: 1996 12
METADATA_DATE: 1997 11 3
DATA_FILE_SIZE: 42132336
BYTE_COUNT: 5496
