FILENAME: O4811562.SES.56492.tif
QUADRANGLE_NAME: KENELTY MOUNTAIN
QUADRANT: SE
WEST_LONGITUDE: -115 18 45.00000
EAST_LONGITUDE: -115 15 0.00000
NORTH_LATITUDE: 48 3 45.00000
SOUTH_LATITUDE: 48 0 0.00000
PRODUCTION_DATE: 1997 3 27
RASTER_ORDER: LEFT_RIGHT/TOP_BOTTOM
BAND_ORGANIZATION: SINGLE FILE
BAND_CONTENT: BLACK&WHITE
BAND_CONTENT: UNDEFINED
BAND_CONTENT: UNDEFINED
BITS_PER_PIXEL: 8
SAMPLES_AND_LINES: 5488 7661
HORIZONTAL_DATUM: NAD83
HORIZONTAL_COORDINATE_SYSTEM: UTM
COORDINATE_ZONE: 11
HORIZONTAL_UNITS: METERS
HORIZONTAL_RESOLUTION: 1.00000
SECONDARY_HORIZONTAL_DATUM: NAD27
XY_ORIGIN: 625351.00000 5325029.00000
SECONDARY_XY_ORIGIN: 625429.31200 5324817.70800
NATION: US
STATE: MT
NW_QUAD_CORNER_XY: 625725.87600 5324624.32600
NE_QUAD_CORNER_XY: 630382.23900 5324728.26200
SE_QUAD_CORNERY_XY: 630540.03400 5317781.94700
SW_QUAD_CORNER_XY: 625878.03200 5317677.98700
SECONDARY_NW_QUAD_XY: 625729.83700 5324405.47400
SECONDARY_NE_QUAD_XY: 630386.34800 5324509.41400
SECONDARY_SE_QUAD_XY: 630544.14200 5317563.11300
SECONDARY_SW_QUAD_XY: 625881.99300 5317459.15000
RMSE_XY: 1.80000
IMAGE_SOURCE: BLACK AND WHITE FILM
SOURCE_IMAGE_ID: NAPP 8418 87
SOURCE_IMAGE_DATE: 1995 8 5
SOURCE_DEM_DATE: 1997 3 27
AGENCY: WESTERN MAPPING CENTER (WMC)
PRODUCER: USFS
PRODUCTION_SYSTEM: DV2.6.3 10/9OV2.4 5/95
COMPRESSION: UNDEFINED
STANDARD_VERSION: 1996 12
METADATA_DATE: 1997 11 3
DATA_FILE_SIZE: 42049056
BYTE_COUNT: 5488
