FILENAME: O4811562.SWS.56511.tif
QUADRANGLE_NAME: KENELTY MOUNTAIN
QUADRANT: SW
WEST_LONGITUDE: -115 22 30.00000
EAST_LONGITUDE: -115 18 45.00000
NORTH_LATITUDE: 48 3 45.00000
SOUTH_LATITUDE: 48 0 0.00000
PRODUCTION_DATE: 1997 3 27
RASTER_ORDER: LEFT_RIGHT/TOP_BOTTOM
BAND_ORGANIZATION: SINGLE FILE
BAND_CONTENT: BLACK&WHITE
BAND_CONTENT: UNDEFINED
BAND_CONTENT: UNDEFINED
BITS_PER_PIXEL: 8
SAMPLES_AND_LINES: 5484 7657
HORIZONTAL_DATUM: NAD83
HORIZONTAL_COORDINATE_SYSTEM: UTM
COORDINATE_ZONE: 11
HORIZONTAL_UNITS: METERS
HORIZONTAL_RESOLUTION: 1.00000
SECONDARY_HORIZONTAL_DATUM: NAD27
XY_ORIGIN: 620694.00000 5324925.00000
SECONDARY_XY_ORIGIN: 620772.37900 5324713.70200
NATION: US
STATE: MT
NW_QUAD_CORNER_XY: 621069.49600 5324524.17100
NE_QUAD_CORNER_XY: 625725.87600 5324624.32600
SE_QUAD_CORNERY_XY: 625878.03200 5317677.98700
SW_QUAD_CORNER_XY: 621216.01400 5317577.80900
SECONDARY_NW_QUAD_XY: 621073.31100 5324305.31600
SECONDARY_NE_QUAD_XY: 625729.83700 5324405.47400
SECONDARY_SE_QUAD_XY: 625881.99300 5317459.15000
SECONDARY_SW_QUAD_XY: 621219.82900 5317358.96900
RMSE_XY: 2.40000
IMAGE_SOURCE: BLACK AND WHITE FILM
SOURCE_IMAGE_ID: NAPP 8418 32
SOURCE_IMAGE_DATE: 1995 8 5
SOURCE_DEM_DATE: 1997 3 27
AGENCY: WESTERN MAPPING CENTER (WMC)
PRODUCER: USFS
PRODUCTION_SYSTEM: DV2.6.3 10/9OV2.4 5/95
COMPRESSION: UNDEFINED
STANDARD_VERSION: 1996 12
METADATA_DATE: 1997 11 3
DATA_FILE_SIZE: 41996472
BYTE_COUNT: 5484
