FILENAME: O4811560.NWS.56600.tif
QUADRANGLE_NAME: HOWARD LAKE
QUADRANT: NW
WEST_LONGITUDE: -115 37 30.00000
EAST_LONGITUDE: -115 33 45.00000
NORTH_LATITUDE: 48 7 30.00000
SOUTH_LATITUDE: 48 3 45.00000
PRODUCTION_DATE: 1997 3 18
RASTER_ORDER: LEFT_RIGHT/TOP_BOTTOM
BAND_ORGANIZATION: SINGLE FILE
BAND_CONTENT: BLACK&WHITE
BAND_CONTENT: UNDEFINED
BAND_CONTENT: UNDEFINED
BITS_PER_PIXEL: 8
SAMPLES_AND_LINES: 5457 7644
HORIZONTAL_DATUM: NAD83
HORIZONTAL_COORDINATE_SYSTEM: UTM
COORDINATE_ZONE: 11
HORIZONTAL_UNITS: METERS
HORIZONTAL_RESOLUTION: 1.00000
SECONDARY_HORIZONTAL_DATUM: NAD27
XY_ORIGIN: 601944.00000 5331498.00000
SECONDARY_XY_ORIGIN: 602021.63000 5331286.66000
NATION: US
STATE: MT
NW_QUAD_CORNER_XY: 602319.81000 5331107.84000
NE_QUAD_CORNER_XY: 606970.60000 5331192.85000
SE_QUAD_CORNERY_XY: 607100.34000 5324246.35000
SW_QUAD_CORNER_XY: 602443.90000 5324161.32000
SECONDARY_NW_QUAD_XY: 602323.04000 5330888.96000
SECONDARY_NE_QUAD_XY: 606973.98000 5330973.97000
SECONDARY_SE_QUAD_XY: 607103.71000 5324027.49000
SECONDARY_SW_QUAD_XY: 602447.13000 5323942.45000
RMSE_XY: 3.80000
IMAGE_SOURCE: BLACK AND WHITE FILM
SOURCE_IMAGE_ID: NAPP 8421 87
SOURCE_IMAGE_DATE: 1995 8 20
SOURCE_IMAGE_ID: NAPP 8421 89
SOURCE_IMAGE_DATE: 1995 8 20
SOURCE_IMAGE_ID: NAPP 8421 86
SOURCE_IMAGE_DATE: 1995 8 20
SOURCE_DEM_DATE: 1997 3 18
AGENCY: WESTERN MAPPING CENTER (WMC)
PRODUCER: USFS
PRODUCTION_SYSTEM: DV2.6.3 10/9OV2.4 5/95
COMPRESSION: UNDEFINED
STANDARD_VERSION: 1996 12
METADATA_DATE: 1997 11 2
DATA_FILE_SIZE: 41718765
BYTE_COUNT: 5457
