FILENAME: O4811560.SES.56577.tif
QUADRANGLE_NAME: HOWARD LAKE
QUADRANT: SE
WEST_LONGITUDE: -115 33 45.00000
EAST_LONGITUDE: -115 30 0.00000
NORTH_LATITUDE: 48 3 45.00000
SOUTH_LATITUDE: 48 0 0.00000
PRODUCTION_DATE: 1997 3 18
RASTER_ORDER: LEFT_RIGHT/TOP_BOTTOM
BAND_ORGANIZATION: SINGLE FILE
BAND_CONTENT: BLACK&WHITE
BAND_CONTENT: UNDEFINED
BAND_CONTENT: UNDEFINED
BITS_PER_PIXEL: 8
SAMPLES_AND_LINES: 5468 7646
HORIZONTAL_DATUM: NAD83
HORIZONTAL_COORDINATE_SYSTEM: UTM
COORDINATE_ZONE: 11
HORIZONTAL_UNITS: METERS
HORIZONTAL_RESOLUTION: 1.00000
SECONDARY_HORIZONTAL_DATUM: NAD27
XY_ORIGIN: 606724.00000 5324636.00000
SECONDARY_XY_ORIGIN: 606802.24900 5324424.89900
NATION: US
STATE: MT
NW_QUAD_CORNER_XY: 607100.26800 5324246.39200
NE_QUAD_CORNER_XY: 611756.69200 5324335.20400
SE_QUAD_CORNERY_XY: 611891.93500 5317388.79900
SW_QUAD_CORNER_XY: 607229.87400 5317299.96700
SECONDARY_NW_QUAD_XY: 607103.64300 5324027.52800
SECONDARY_NE_QUAD_XY: 611760.21300 5324116.34300
SECONDARY_SE_QUAD_XY: 611895.45600 5317169.95300
SECONDARY_SW_QUAD_XY: 607233.24900 5317081.11700
RMSE_XY: 2.50000
IMAGE_SOURCE: BLACK AND WHITE FILM
SOURCE_IMAGE_ID: NAPP 8422 60
SOURCE_IMAGE_DATE: 1995 7 28
SOURCE_DEM_DATE: 1997 3 18
AGENCY: WESTERN MAPPING CENTER (WMC)
PRODUCER: USFS
PRODUCTION_SYSTEM: DV2.6.3 10/9OV2.4 5/95
COMPRESSION: UNDEFINED
STANDARD_VERSION: 1996 12
METADATA_DATE: 1997 11 2
DATA_FILE_SIZE: 41813796
BYTE_COUNT: 5468
