FILENAME: O4811557.SWS.56731.tif
QUADRANGLE_NAME: HERON
QUADRANT: SW
WEST_LONGITUDE: -116 0 0.00000
EAST_LONGITUDE: -115 56 15.00000
NORTH_LATITUDE: 48 3 45.00000
SOUTH_LATITUDE: 48 0 0.00000
PRODUCTION_DATE: 1997 2 20
RASTER_ORDER: LEFT_RIGHT/TOP_BOTTOM
BAND_ORGANIZATION: SINGLE FILE
BAND_CONTENT: BLACK&WHITE
BAND_CONTENT: UNDEFINED
BAND_CONTENT: UNDEFINED
BITS_PER_PIXEL: 8
SAMPLES_AND_LINES: 5428 7621
HORIZONTAL_DATUM: NAD83
HORIZONTAL_COORDINATE_SYSTEM: UTM
COORDINATE_ZONE: 11
HORIZONTAL_UNITS: METERS
HORIZONTAL_RESOLUTION: 1.00000
SECONDARY_HORIZONTAL_DATUM: NAD27
XY_ORIGIN: 574129.00000 5324094.00000
SECONDARY_XY_ORIGIN: 574206.14000 5323884.07200
NATION: US
STATE: MT
NW_QUAD_CORNER_XY: 574504.96000 5323730.55200
NE_QUAD_CORNER_XY: 579161.46600 5323792.90400
SE_QUAD_CORNERY_XY: 579257.25300 5316846.37500
SW_QUAD_CORNER_XY: 574595.11200 5316784.00900
SECONDARY_NW_QUAD_XY: 574507.30800 5323511.67300
SECONDARY_NE_QUAD_XY: 579163.96000 5323574.02600
SECONDARY_SE_QUAD_XY: 579259.74800 5316627.51200
SECONDARY_SW_QUAD_XY: 574597.46000 5316565.14400
RMSE_XY: 2.10000
IMAGE_SOURCE: BLACK AND WHITE FILM
SOURCE_IMAGE_ID: NAPP 8419 98
SOURCE_IMAGE_DATE: 1995 8 21
SOURCE_DEM_DATE: 1997 2 20
AGENCY: WESTERN MAPPING CENTER (WMC)
PRODUCER: USFS
PRODUCTION_SYSTEM: DV2.6.3 10/9OV2.4 5/95
COMPRESSION: UNDEFINED
STANDARD_VERSION: 1996 12
METADATA_DATE: 1997 11 2
DATA_FILE_SIZE: 41372216
BYTE_COUNT: 5428
