FILENAME: O4811556.NES.56418.tif
QUADRANGLE_NAME: DEER CREEK
QUADRANT: NE
WEST_LONGITUDE: -115 3 45.00000
EAST_LONGITUDE: -115 0 0.00000
NORTH_LATITUDE: 48 15 0.00000
SOUTH_LATITUDE: 48 11 15.00000
PRODUCTION_DATE: 1997 3 19
RASTER_ORDER: LEFT_RIGHT/TOP_BOTTOM
BAND_ORGANIZATION: SINGLE FILE
BAND_CONTENT: BLACK&WHITE
BAND_CONTENT: UNDEFINED
BAND_CONTENT: UNDEFINED
BITS_PER_PIXEL: 8
SAMPLES_AND_LINES: 5496 7675
HORIZONTAL_DATUM: NAD83
HORIZONTAL_COORDINATE_SYSTEM: UTM
COORDINATE_ZONE: 11
HORIZONTAL_UNITS: METERS
HORIZONTAL_RESOLUTION: 1.00000
SECONDARY_HORIZONTAL_DATUM: NAD27
XY_ORIGIN: 643452.00000 5346322.00000
SECONDARY_XY_ORIGIN: 643529.00000 5346110.00000
NATION: US
STATE: MT
NW_QUAD_CORNER_XY: 643826.05800 5345901.87900
NE_QUAD_CORNER_XY: 648465.40000 5346020.85700
SE_QUAD_CORNERY_XY: 648646.28600 5339074.44700
SW_QUAD_CORNER_XY: 644001.28700 5338955.43900
SECONDARY_NW_QUAD_XY: 643830.60700 5345683.00300
SECONDARY_NE_QUAD_XY: 648470.09600 5345801.98500
SECONDARY_SE_QUAD_XY: 648650.98200 5338855.58600
SECONDARY_SW_QUAD_XY: 644005.83700 5338736.57500
RMSE_XY: 3.80000
IMAGE_SOURCE: BLACK AND WHITE FILM
SOURCE_IMAGE_ID: NAPP 8420 26
SOURCE_IMAGE_DATE: 1995 8 20
SOURCE_DEM_DATE: 1997 3 19
AGENCY: WESTERN MAPPING CENTER (WMC)
PRODUCER: USFS
PRODUCTION_SYSTEM: DV2.6.3 10/9OV2.4 5/95
COMPRESSION: UNDEFINED
STANDARD_VERSION: 1996 12
METADATA_DATE: 1997 11 3
DATA_FILE_SIZE: 42187296
BYTE_COUNT: 5496
