FILENAME: O4811555.NES.56455.tif
QUADRANGLE_NAME: CALX MOUNTAIN
QUADRANT: NE
WEST_LONGITUDE: -115 11 15.00000
EAST_LONGITUDE: -115 7 30.00000
NORTH_LATITUDE: 48 15 0.00000
SOUTH_LATITUDE: 48 11 15.00000
PRODUCTION_DATE: 1997 3 15
RASTER_ORDER: LEFT_RIGHT/TOP_BOTTOM
BAND_ORGANIZATION: SINGLE FILE
BAND_CONTENT: BLACK&WHITE
BAND_CONTENT: UNDEFINED
BAND_CONTENT: UNDEFINED
BITS_PER_PIXEL: 8
SAMPLES_AND_LINES: 5484 7668
HORIZONTAL_DATUM: NAD83
HORIZONTAL_COORDINATE_SYSTEM: UTM
COORDINATE_ZONE: 11
HORIZONTAL_UNITS: METERS
HORIZONTAL_RESOLUTION: 1.00000
SECONDARY_HORIZONTAL_DATUM: NAD27
XY_ORIGIN: 634173.00000 5346088.00000
SECONDARY_XY_ORIGIN: 634250.00000 5345876.00000
NATION: US
STATE: MT
NW_QUAD_CORNER_XY: 634547.31600 5345675.26000
NE_QUAD_CORNER_XY: 639186.69600 5345786.68000
SE_QUAD_CORNERY_XY: 639356.27000 5338840.21200
SW_QUAD_CORNER_XY: 634711.23500 5338728.76500
SECONDARY_NW_QUAD_XY: 634551.57300 5345456.37700
SECONDARY_NE_QUAD_XY: 639191.09900 5345567.80000
SECONDARY_SE_QUAD_XY: 639360.67300 5338621.34400
SECONDARY_SW_QUAD_XY: 634715.49000 5338509.89400
RMSE_XY: 1.70000
IMAGE_SOURCE: BLACK AND WHITE FILM
SOURCE_IMAGE_ID: NAPP 8420 164
SOURCE_IMAGE_DATE: 1995 8 20
SOURCE_DEM_DATE: 1997 3 15
AGENCY: WESTERN MAPPING CENTER (WMC)
PRODUCER: USFS
PRODUCTION_SYSTEM: DV2.6.3 10/9OV2.4 5/95
COMPRESSION: UNDEFINED
STANDARD_VERSION: 1996 12
METADATA_DATE: 1997 11 3
DATA_FILE_SIZE: 42056796
BYTE_COUNT: 5484
