FILENAME: O4811554.NES.56495.tif
QUADRANGLE_NAME: FISHER MOUNTAIN
QUADRANT: NE
WEST_LONGITUDE: -115 18 45.00000
EAST_LONGITUDE: -115 15 0.00000
NORTH_LATITUDE: 48 15 0.00000
SOUTH_LATITUDE: 48 11 15.00000
PRODUCTION_DATE: 1997 3 27
RASTER_ORDER: LEFT_RIGHT/TOP_BOTTOM
BAND_ORGANIZATION: SINGLE FILE
BAND_CONTENT: BLACK&WHITE
BAND_CONTENT: UNDEFINED
BAND_CONTENT: UNDEFINED
BITS_PER_PIXEL: 8
SAMPLES_AND_LINES: 5472 7661
HORIZONTAL_DATUM: NAD83
HORIZONTAL_COORDINATE_SYSTEM: UTM
COORDINATE_ZONE: 11
HORIZONTAL_UNITS: METERS
HORIZONTAL_RESOLUTION: 1.00000
SECONDARY_HORIZONTAL_DATUM: NAD27
XY_ORIGIN: 624894.00000 5345869.00000
SECONDARY_XY_ORIGIN: 624971.65200 5345656.50900
NATION: US
STATE: MT
NW_QUAD_CORNER_XY: 625268.50300 5345463.75800
NE_QUAD_CORNER_XY: 629907.91800 5345567.62000
SE_QUAD_CORNERY_XY: 630066.18100 5338621.09800
SW_QUAD_CORNER_XY: 625421.11100 5338517.21100
SECONDARY_NW_QUAD_XY: 625272.46600 5345244.86800
SECONDARY_NE_QUAD_XY: 629912.02800 5345348.73300
SECONDARY_SE_QUAD_XY: 630070.29000 5338402.22400
SECONDARY_SW_QUAD_XY: 625425.07300 5338298.33300
RMSE_XY: 2.80000
IMAGE_SOURCE: BLACK AND WHITE FILM
SOURCE_IMAGE_ID: NAPP 8418 93
SOURCE_IMAGE_DATE: 1995 8 5
SOURCE_DEM_DATE: 1997 3 27
AGENCY: WESTERN MAPPING CENTER (WMC)
PRODUCER: USFS
PRODUCTION_SYSTEM: DV2.6.3 10/9OV2.4 5/95
COMPRESSION: UNDEFINED
STANDARD_VERSION: 1996 12
METADATA_DATE: 1997 11 3
DATA_FILE_SIZE: 41926464
BYTE_COUNT: 5472
