FILENAME: O4811554.SWS.56513.tif
QUADRANGLE_NAME: FISHER MOUNTAIN
QUADRANT: SW
WEST_LONGITUDE: -115 22 30.00000
EAST_LONGITUDE: -115 18 45.00000
NORTH_LATITUDE: 48 11 15.00000
SOUTH_LATITUDE: 48 7 30.00000
PRODUCTION_DATE: 1997 3 26
RASTER_ORDER: LEFT_RIGHT/TOP_BOTTOM
BAND_ORGANIZATION: SINGLE FILE
BAND_CONTENT: BLACK&WHITE
BAND_CONTENT: UNDEFINED
BAND_CONTENT: UNDEFINED
BITS_PER_PIXEL: 8
SAMPLES_AND_LINES: 5472 7657
HORIZONTAL_DATUM: NAD83
HORIZONTAL_COORDINATE_SYSTEM: UTM
COORDINATE_ZONE: 11
HORIZONTAL_UNITS: METERS
HORIZONTAL_RESOLUTION: 1.00000
SECONDARY_HORIZONTAL_DATUM: NAD27
XY_ORIGIN: 620401.00000 5338818.00000
SECONDARY_XY_ORIGIN: 620478.79200 5338605.84000
NATION: US
STATE: MT
NW_QUAD_CORNER_XY: 620776.02400 5338417.10300
NE_QUAD_CORNER_XY: 625421.11100 5338517.21100
SE_QUAD_CORNERY_XY: 625573.56900 5331570.73400
SW_QUAD_CORNER_XY: 620922.83300 5331470.60200
SECONDARY_NW_QUAD_XY: 620779.84000 5338198.22200
SECONDARY_NE_QUAD_XY: 625425.07300 5338298.33300
SECONDARY_SE_QUAD_XY: 625577.53100 5331351.86800
SECONDARY_SW_QUAD_XY: 620926.64800 5331251.73400
RMSE_XY: 1.90000
IMAGE_SOURCE: BLACK AND WHITE FILM
SOURCE_IMAGE_ID: NAPP 8418 28
SOURCE_IMAGE_DATE: 1995 8 5
SOURCE_DEM_DATE: 1997 3 26
AGENCY: WESTERN MAPPING CENTER (WMC)
PRODUCER: USFS
PRODUCTION_SYSTEM: DV2.6.3 10/9OV2.4 5/95
COMPRESSION: UNDEFINED
STANDARD_VERSION: 1996 12
METADATA_DATE: 1997 11 2
DATA_FILE_SIZE: 41904576
BYTE_COUNT: 5472
