FILENAME: O4811551.SES.56625.tif
QUADRANGLE_NAME: SNOWSHOE PEAK
QUADRANT: SE
WEST_LONGITUDE: -115 41 15.00000
EAST_LONGITUDE: -115 37 30.00000
NORTH_LATITUDE: 48 11 15.00000
SOUTH_LATITUDE: 48 7 30.00000
PRODUCTION_DATE: 1997 3 10
RASTER_ORDER: LEFT_RIGHT/TOP_BOTTOM
BAND_ORGANIZATION: SINGLE FILE
BAND_CONTENT: BLACK&WHITE
BAND_CONTENT: UNDEFINED
BAND_CONTENT: UNDEFINED
BITS_PER_PIXEL: 8
SAMPLES_AND_LINES: 5445 7639
HORIZONTAL_DATUM: NAD83
HORIZONTAL_COORDINATE_SYSTEM: UTM
COORDINATE_ZONE: 11
HORIZONTAL_UNITS: METERS
HORIZONTAL_RESOLUTION: 1.00000
SECONDARY_HORIZONTAL_DATUM: NAD27
XY_ORIGIN: 597175.00000 5338359.00000
SECONDARY_XY_ORIGIN: 597252.08000 5338147.46000
NATION: US
STATE: MT
NW_QUAD_CORNER_XY: 597550.43000 5337973.21000
NE_QUAD_CORNER_XY: 602195.59000 5338054.42000
SE_QUAD_CORNERY_XY: 602319.81000 5331107.84000
SW_QUAD_CORNER_XY: 597669.00000 5331026.60000
SECONDARY_NW_QUAD_XY: 597553.51000 5337754.32000
SECONDARY_NE_QUAD_XY: 602198.82000 5337835.53000
SECONDARY_SE_QUAD_XY: 602323.04000 5330888.96000
SECONDARY_SW_QUAD_XY: 597672.08000 5330807.72000
RMSE_XY: 3.50000
IMAGE_SOURCE: BLACK AND WHITE FILM
SOURCE_IMAGE_ID: NAPP 8421 120
SOURCE_IMAGE_DATE: 1995 8 20
SOURCE_IMAGE_ID: NAPP 8421 119
SOURCE_IMAGE_DATE: 1995 8 20
SOURCE_IMAGE_ID: NAPP 8421 121
SOURCE_IMAGE_DATE: 1995 8 20
SOURCE_DEM_DATE: 1997 3 10
AGENCY: WESTERN MAPPING CENTER (WMC)
PRODUCER: USFS
PRODUCTION_SYSTEM: DV2.6.3 10/9OV2.4 5/95
COMPRESSION: UNDEFINED
STANDARD_VERSION: 1996 12
METADATA_DATE: 1997 11 2
DATA_FILE_SIZE: 41599800
BYTE_COUNT: 5445
