FILENAME: O4811550.NES.56672.tif
QUADRANGLE_NAME: IBEX PEAK
QUADRANT: NE
WEST_LONGITUDE: -115 48 45.00000
EAST_LONGITUDE: -115 45 0.00000
NORTH_LATITUDE: 48 15 0.00000
SOUTH_LATITUDE: 48 11 15.00000
PRODUCTION_DATE: 1997 2 20
RASTER_ORDER: LEFT_RIGHT/TOP_BOTTOM
BAND_ORGANIZATION: SINGLE FILE
BAND_CONTENT: BLACK&WHITE
BAND_CONTENT: UNDEFINED
BAND_CONTENT: UNDEFINED
BITS_PER_PIXEL: 8
SAMPLES_AND_LINES: 5429 7633
HORIZONTAL_DATUM: NAD83
HORIZONTAL_COORDINATE_SYSTEM: UTM
COORDINATE_ZONE: 11
HORIZONTAL_UNITS: METERS
HORIZONTAL_RESOLUTION: 1.00000
SECONDARY_HORIZONTAL_DATUM: NAD27
XY_ORIGIN: 587778.00000 5345148.00000
SECONDARY_XY_ORIGIN: 587854.50000 5344936.46000
NATION: US
STATE: MT
NW_QUAD_CORNER_XY: 588152.70000 5344768.84000
NE_QUAD_CORNER_XY: 592792.23000 5344842.47000
SE_QUAD_CORNERY_XY: 592905.26000 5337895.78000
SW_QUAD_CORNER_XY: 588260.08000 5337822.12000
SECONDARY_NW_QUAD_XY: 588155.49000 5344549.92000
SECONDARY_NE_QUAD_XY: 592795.16000 5344623.56000
SECONDARY_SE_QUAD_XY: 592908.20000 5337676.88000
SECONDARY_SW_QUAD_XY: 588262.86000 5337603.22000
RMSE_XY: 1.10000
IMAGE_SOURCE: BLACK AND WHITE FILM
SOURCE_IMAGE_ID: NAPP 8421 153
SOURCE_IMAGE_DATE: 1995 8 20
SOURCE_IMAGE_ID: NAPP 8421 8419
SOURCE_IMAGE_DATE: 1995 8 20
SOURCE_IMAGE_ID: NAPP 8421 27
SOURCE_IMAGE_DATE: 1995 8 20
SOURCE_DEM_DATE: 1997 2 20
AGENCY: WESTERN MAPPING CENTER (WMC)
PRODUCER: USFS
PRODUCTION_SYSTEM: DV2.6.3 10/9OV2.4 5/95
COMPRESSION: UNDEFINED
STANDARD_VERSION: 1996 12
METADATA_DATE: 1997 11 2
DATA_FILE_SIZE: 41444986
BYTE_COUNT: 5429
