FILENAME: O4811549.NES.56714.tif
QUADRANGLE_NAME: SAWTOOTH MOUNTAIN
QUADRANT: NE
WEST_LONGITUDE: -115 56 15.00000
EAST_LONGITUDE: -115 52 30.00000
NORTH_LATITUDE: 48 15 0.00000
SOUTH_LATITUDE: 48 11 15.00000
PRODUCTION_DATE: 1997 2 20
RASTER_ORDER: LEFT_RIGHT/TOP_BOTTOM
BAND_ORGANIZATION: SINGLE FILE
BAND_CONTENT: BLACK&WHITE
BAND_CONTENT: UNDEFINED
BAND_CONTENT: UNDEFINED
BITS_PER_PIXEL: 8
SAMPLES_AND_LINES: 5417 7625
HORIZONTAL_DATUM: NAD83
HORIZONTAL_COORDINATE_SYSTEM: UTM
COORDINATE_ZONE: 11
HORIZONTAL_UNITS: METERS
HORIZONTAL_RESOLUTION: 1.00000
SECONDARY_HORIZONTAL_DATUM: NAD27
XY_ORIGIN: 578499.00000 5345004.00000
SECONDARY_XY_ORIGIN: 578575.31000 5344792.78000
NATION: US
STATE: MT
NW_QUAD_CORNER_XY: 578873.60000 5344632.89000
NE_QUAD_CORNER_XY: 583513.15000 5344698.97000
SE_QUAD_CORNERY_XY: 583614.88000 5337752.24000
SW_QUAD_CORNER_XY: 578969.67000 5337686.14000
SECONDARY_NW_QUAD_XY: 578876.09000 5344413.97000
SECONDARY_NE_QUAD_XY: 583515.80000 5344480.06000
SECONDARY_SE_QUAD_XY: 583617.52000 5337533.34000
SECONDARY_SW_QUAD_XY: 578972.17000 5337467.24000
RMSE_XY: 2.70000
IMAGE_SOURCE: BLACK AND WHITE FILM
SOURCE_IMAGE_ID: NAPP 8422 19
SOURCE_IMAGE_DATE: 1995 7 28
SOURCE_IMAGE_ID: NAPP 8422 8421
SOURCE_IMAGE_DATE: 1995 7 28
SOURCE_IMAGE_ID: NAPP 8422 7
SOURCE_IMAGE_DATE: 1995 7 28
SOURCE_DEM_DATE: 1997 2 20
AGENCY: WESTERN MAPPING CENTER (WMC)
PRODUCER: USFS
PRODUCTION_SYSTEM: DV2.6.3 10/9OV2.4 5/95
COMPRESSION: UNDEFINED
STANDARD_VERSION: 1996 12
METADATA_DATE: 1997 11 2
DATA_FILE_SIZE: 41310042
BYTE_COUNT: 5417
