FILENAME: O4811548.NWS.56437.tif
QUADRANGLE_NAME: WOLF PRAIRIE
QUADRANT: NW
WEST_LONGITUDE: -115 7 30.00000
EAST_LONGITUDE: -115 3 45.00000
NORTH_LATITUDE: 48 22 30.00000
SOUTH_LATITUDE: 48 18 45.00000
PRODUCTION_DATE: 1997 3 8
RASTER_ORDER: LEFT_RIGHT/TOP_BOTTOM
BAND_ORGANIZATION: SINGLE FILE
BAND_CONTENT: BLACK&WHITE
BAND_CONTENT: UNDEFINED
BAND_CONTENT: UNDEFINED
BITS_PER_PIXEL: 8
SAMPLES_AND_LINES: 5480 7671
HORIZONTAL_DATUM: NAD83
HORIZONTAL_COORDINATE_SYSTEM: UTM
COORDINATE_ZONE: 11
HORIZONTAL_UNITS: METERS
HORIZONTAL_RESOLUTION: 1.00000
SECONDARY_HORIZONTAL_DATUM: NAD27
XY_ORIGIN: 638473.00000 5360096.00000
SECONDARY_XY_ORIGIN: 638550.64500 5359883.49900
NATION: US
STATE: MT
NW_QUAD_CORNER_XY: 638847.04800 5359679.81900
NE_QUAD_CORNER_XY: 643475.08100 5359794.96000
SE_QUAD_CORNERY_XY: 643650.65500 5352848.38600
SW_QUAD_CORNER_XY: 639016.95600 5352733.21600
SECONDARY_NW_QUAD_XY: 638851.45200 5359460.91900
SECONDARY_NE_QUAD_XY: 643479.63100 5359576.06300
SECONDARY_SE_QUAD_XY: 643655.20500 5352629.49900
SECONDARY_SW_QUAD_XY: 639021.35900 5352514.32500
RMSE_XY: 2.50000
IMAGE_SOURCE: BLACK AND WHITE FILM
SOURCE_IMAGE_ID: NAPP 8420 117
SOURCE_IMAGE_DATE: 1995 8 20
SOURCE_DEM_DATE: 1997 3 8
AGENCY: WESTERN MAPPING CENTER (WMC)
PRODUCER: USFS
PRODUCTION_SYSTEM: DV2.6.3 10/9OV2.4 5/95
COMPRESSION: UNDEFINED
STANDARD_VERSION: 1996 12
METADATA_DATE: 1997 11 2
DATA_FILE_SIZE: 42042560
BYTE_COUNT: 5480
