FILENAME: O4811546.SES.56496.tif
QUADRANGLE_NAME: TONY PEAK
QUADRANT: SE
WEST_LONGITUDE: -115 18 45.00000
EAST_LONGITUDE: -115 15 0.00000
NORTH_LATITUDE: 48 18 45.00000
SOUTH_LATITUDE: 48 15 0.00000
PRODUCTION_DATE: 1997 2 28
RASTER_ORDER: LEFT_RIGHT/TOP_BOTTOM
BAND_ORGANIZATION: SINGLE FILE
BAND_CONTENT: BLACK&WHITE
BAND_CONTENT: UNDEFINED
BAND_CONTENT: UNDEFINED
BITS_PER_PIXEL: 8
SAMPLES_AND_LINES: 5468 7660
HORIZONTAL_DATUM: NAD83
HORIZONTAL_COORDINATE_SYSTEM: UTM
COORDINATE_ZONE: 11
HORIZONTAL_UNITS: METERS
HORIZONTAL_RESOLUTION: 1.00000
SECONDARY_HORIZONTAL_DATUM: NAD27
XY_ORIGIN: 624741.00000 5352815.00000
SECONDARY_XY_ORIGIN: 624818.00000 5352603.00000
NATION: US
STATE: MT
NW_QUAD_CORNER_XY: 625115.74500 5352410.37400
NE_QUAD_CORNER_XY: 629749.50000 5352514.21000
SE_QUAD_CORNERY_XY: 629907.91800 5345567.62000
SW_QUAD_CORNER_XY: 625268.50300 5345463.75800
SECONDARY_NW_QUAD_XY: 625119.70800 5352191.47300
SECONDARY_NE_QUAD_XY: 629753.60900 5352295.31200
SECONDARY_SE_QUAD_XY: 629912.02800 5345348.73300
SECONDARY_SW_QUAD_XY: 625272.46600 5345244.86800
RMSE_XY: 2.50000
IMAGE_SOURCE: BLACK AND WHITE FILM
SOURCE_IMAGE_ID: NAPP 8418 95
SOURCE_IMAGE_DATE: 1995 8 5
SOURCE_DEM_DATE: 1997 2 28
AGENCY: WESTERN MAPPING CENTER (WMC)
PRODUCER: USFS
PRODUCTION_SYSTEM: DV2.6.3 10/9OV2.4 5/95
COMPRESSION: UNDEFINED
STANDARD_VERSION: 1996 12
METADATA_DATE: 1997 11 2
DATA_FILE_SIZE: 41890348
BYTE_COUNT: 5468
