FILENAME: O4811544.SWS.56603.tif
QUADRANGLE_NAME: LITTLE HOODOO MOUNTAIN
QUADRANT: SW
WEST_LONGITUDE: -115 37 30.00000
EAST_LONGITUDE: -115 33 45.00000
NORTH_LATITUDE: 48 18 45.00000
SOUTH_LATITUDE: 48 15 0.00000
PRODUCTION_DATE: 1997 3 11
RASTER_ORDER: LEFT_RIGHT/TOP_BOTTOM
BAND_ORGANIZATION: SINGLE FILE
BAND_CONTENT: BLACK&WHITE
BAND_CONTENT: UNDEFINED
BAND_CONTENT: UNDEFINED
BITS_PER_PIXEL: 8
SAMPLES_AND_LINES: 5440 7642
HORIZONTAL_DATUM: NAD83
HORIZONTAL_COORDINATE_SYSTEM: UTM
COORDINATE_ZONE: 11
HORIZONTAL_UNITS: METERS
HORIZONTAL_RESOLUTION: 1.00000
SECONDARY_HORIZONTAL_DATUM: NAD27
XY_ORIGIN: 601572.00000 5352334.00000
SECONDARY_XY_ORIGIN: 601648.98300 5352121.86000
NATION: US
STATE: MT
NW_QUAD_CORNER_XY: 601946.72900 5351947.85400
NE_QUAD_CORNER_XY: 606580.56200 5352032.80300
SE_QUAD_CORNERY_XY: 606710.68100 5345086.09400
SW_QUAD_CORNER_XY: 602071.18800 5345001.12300
SECONDARY_NW_QUAD_XY: 601949.95800 5351728.93800
SECONDARY_NE_QUAD_XY: 606583.93800 5351813.89100
SECONDARY_SE_QUAD_XY: 606714.05600 5344867.19200
SECONDARY_SW_QUAD_XY: 602074.41700 5344782.21800
RMSE_XY: 1.30000
IMAGE_SOURCE: BLACK AND WHITE FILM
SOURCE_IMAGE_ID: NAPP 8421 93
SOURCE_IMAGE_DATE: 1995 8 20
SOURCE_DEM_DATE: 1997 3 11
AGENCY: WESTERN MAPPING CENTER (WMC)
PRODUCER: USFS
PRODUCTION_SYSTEM: DV2.6.3 10/9OV2.4 5/95
COMPRESSION: UNDEFINED
STANDARD_VERSION: 1996 12
METADATA_DATE: 1997 11 2
DATA_FILE_SIZE: 41577920
BYTE_COUNT: 5440
