FILENAME: O4811542.SES.56673.tif
QUADRANGLE_NAME: CROWELL MOUNTAIN
QUADRANT: SE
WEST_LONGITUDE: -115 48 45.00000
EAST_LONGITUDE: -115 45 0.00000
NORTH_LATITUDE: 48 18 45.00000
SOUTH_LATITUDE: 48 15 0.00000
PRODUCTION_DATE: 1997 2 28
RASTER_ORDER: LEFT_RIGHT/TOP_BOTTOM
BAND_ORGANIZATION: SINGLE FILE
BAND_CONTENT: BLACK&WHITE
BAND_CONTENT: UNDEFINED
BAND_CONTENT: UNDEFINED
BITS_PER_PIXEL: 8
SAMPLES_AND_LINES: 5424 7630
HORIZONTAL_DATUM: NAD83
HORIZONTAL_COORDINATE_SYSTEM: UTM
COORDINATE_ZONE: 11
HORIZONTAL_UNITS: METERS
HORIZONTAL_RESOLUTION: 1.00000
SECONDARY_HORIZONTAL_DATUM: NAD27
XY_ORIGIN: 587670.00000 5352090.00000
SECONDARY_XY_ORIGIN: 587746.60700 5351878.42200
NATION: US
STATE: MT
NW_QUAD_CORNER_XY: 588045.14700 5351715.66400
NE_QUAD_CORNER_XY: 592679.02100 5351789.28400
SE_QUAD_CORNERY_XY: 592792.16300 5344842.51400
SW_QUAD_CORNER_XY: 588152.63100 5344768.87600
SECONDARY_NW_QUAD_XY: 588047.93600 5351496.74100
SECONDARY_NE_QUAD_XY: 592681.95600 5351570.36400
SECONDARY_SE_QUAD_XY: 592795.09800 5344623.60500
SECONDARY_SW_QUAD_XY: 588155.41900 5344549.96400
RMSE_XY: 5.90000
IMAGE_SOURCE: BLACK AND WHITE FILM
SOURCE_IMAGE_ID: NAPP 8421 155
SOURCE_IMAGE_DATE: 1995 8 20
SOURCE_DEM_DATE: 1997 2 28
AGENCY: WESTERN MAPPING CENTER (WMC)
PRODUCER: USFS
PRODUCTION_SYSTEM: DV2.6.1 6/95OV2.4 5/95
COMPRESSION: UNDEFINED
STANDARD_VERSION: 1996 12
METADATA_DATE: 1997 11 2
DATA_FILE_SIZE: 41390544
BYTE_COUNT: 5424
