FILENAME: O4811542.SWS.56695.tif
QUADRANGLE_NAME: CROWELL MOUNTAIN
QUADRANT: SW
WEST_LONGITUDE: -115 52 30.00000
EAST_LONGITUDE: -115 48 45.00000
NORTH_LATITUDE: 48 18 45.00000
SOUTH_LATITUDE: 48 15 0.00000
PRODUCTION_DATE: 1997 2 28
RASTER_ORDER: LEFT_RIGHT/TOP_BOTTOM
BAND_ORGANIZATION: SINGLE FILE
BAND_CONTENT: BLACK&WHITE
BAND_CONTENT: UNDEFINED
BAND_CONTENT: UNDEFINED
BITS_PER_PIXEL: 8
SAMPLES_AND_LINES: 5416 7628
HORIZONTAL_DATUM: NAD83
HORIZONTAL_COORDINATE_SYSTEM: UTM
COORDINATE_ZONE: 11
HORIZONTAL_UNITS: METERS
HORIZONTAL_RESOLUTION: 1.00000
SECONDARY_HORIZONTAL_DATUM: NAD27
XY_ORIGIN: 583036.00000 5352017.00000
SECONDARY_XY_ORIGIN: 583112.00000 5351806.00000
NATION: US
STATE: MT
NW_QUAD_CORNER_XY: 583411.26200 5351645.82000
NE_QUAD_CORNER_XY: 588045.14700 5351715.66400
SE_QUAD_CORNERY_XY: 588152.63100 5344768.87600
SW_QUAD_CORNER_XY: 583513.08700 5344699.01400
SECONDARY_NW_QUAD_XY: 583413.90400 5351426.89500
SECONDARY_NE_QUAD_XY: 588047.93600 5351496.74100
SECONDARY_SE_QUAD_XY: 588155.41900 5344549.96400
SECONDARY_SW_QUAD_XY: 583515.72900 5344480.10000
RMSE_XY: 2.30000
IMAGE_SOURCE: BLACK AND WHITE FILM
SOURCE_IMAGE_ID: NAPP 8421 199
SOURCE_IMAGE_DATE: 1995 8 21
SOURCE_DEM_DATE: 1997 2 28
AGENCY: WESTERN MAPPING CENTER (WMC)
PRODUCER: USFS
PRODUCTION_SYSTEM: DV2.6.1 6/95OV2.4 5/95
COMPRESSION: UNDEFINED
STANDARD_VERSION: 1996 12
METADATA_DATE: 1997 11 2
DATA_FILE_SIZE: 41318664
BYTE_COUNT: 5416
