FILENAME: O4811540.NWS.56439.tif
QUADRANGLE_NAME: WARLAND PEAK
QUADRANT: NW
WEST_LONGITUDE: -115 7 30.00000
EAST_LONGITUDE: -115 3 45.00000
NORTH_LATITUDE: 48 30 0.00000
SOUTH_LATITUDE: 48 26 15.00000
PRODUCTION_DATE: 1997 3 12
RASTER_ORDER: LEFT_RIGHT/TOP_BOTTOM
BAND_ORGANIZATION: SINGLE FILE
BAND_CONTENT: BLACK&WHITE
BAND_CONTENT: UNDEFINED
BAND_CONTENT: UNDEFINED
BITS_PER_PIXEL: 8
SAMPLES_AND_LINES: 5469 7672
HORIZONTAL_DATUM: NAD83
HORIZONTAL_COORDINATE_SYSTEM: UTM
COORDINATE_ZONE: 11
HORIZONTAL_UNITS: METERS
HORIZONTAL_RESOLUTION: 1.00000
SECONDARY_HORIZONTAL_DATUM: NAD27
XY_ORIGIN: 638132.00000 5373993.00000
SECONDARY_XY_ORIGIN: 638209.65000 5373780.40000
NATION: US
STATE: MT
NW_QUAD_CORNER_XY: 638506.80000 5373573.19000
NE_QUAD_CORNER_XY: 643123.48000 5373688.27000
SE_QUAD_CORNERY_XY: 643299.40000 5366741.56000
SW_QUAD_CORNER_XY: 638677.04000 5366626.45000
SECONDARY_NW_QUAD_XY: 638511.21000 5373354.27000
SECONDARY_NE_QUAD_XY: 643128.03000 5373469.36000
SECONDARY_SE_QUAD_XY: 643303.95000 5366522.66000
SECONDARY_SW_QUAD_XY: 638681.44000 5366407.54000
RMSE_XY: 2.50000
IMAGE_SOURCE: BLACK AND WHITE FILM
SOURCE_IMAGE_ID: NAPP 8420 121
SOURCE_IMAGE_DATE: 1995 8 20
SOURCE_IMAGE_ID: NAPP 8420 119
SOURCE_IMAGE_DATE: 1995 8 20
SOURCE_IMAGE_ID: NAPP 8420 18
SOURCE_IMAGE_DATE: 1995 8 20
SOURCE_DEM_DATE: 1997 3 12
AGENCY: WESTERN MAPPING CENTER (WMC)
PRODUCER: USFS
PRODUCTION_SYSTEM: DV2.6.3 10/9OV2.4 5/95
COMPRESSION: UNDEFINED
STANDARD_VERSION: 1996 12
METADATA_DATE: 1997 11 2
DATA_FILE_SIZE: 41963637
BYTE_COUNT: 5469
