FILENAME: O4811540.SES.56421.tif
QUADRANGLE_NAME: WARLAND PEAK
QUADRANT: SE
WEST_LONGITUDE: -115 3 45.00000
EAST_LONGITUDE: -115 0 0.00000
NORTH_LATITUDE: 48 26 15.00000
SOUTH_LATITUDE: 48 22 30.00000
PRODUCTION_DATE: 1997 3 12
RASTER_ORDER: LEFT_RIGHT/TOP_BOTTOM
BAND_ORGANIZATION: SINGLE FILE
BAND_CONTENT: BLACK&WHITE
BAND_CONTENT: UNDEFINED
BAND_CONTENT: UNDEFINED
BITS_PER_PIXEL: 8
SAMPLES_AND_LINES: 5480 7674
HORIZONTAL_DATUM: NAD83
HORIZONTAL_COORDINATE_SYSTEM: UTM
COORDINATE_ZONE: 11
HORIZONTAL_UNITS: METERS
HORIZONTAL_RESOLUTION: 1.00000
SECONDARY_HORIZONTAL_DATUM: NAD27
XY_ORIGIN: 642925.00000 5367161.00000
SECONDARY_XY_ORIGIN: 643002.62500 5366948.42700
NATION: US
STATE: MT
NW_QUAD_CORNER_XY: 643299.33400 5366741.60200
NE_QUAD_CORNER_XY: 647921.67400 5366860.49000
SE_QUAD_CORNERY_XY: 648103.09300 5359913.87900
SW_QUAD_CORNER_XY: 643475.08100 5359794.96000
SECONDARY_NW_QUAD_XY: 643303.88500 5366522.69600
SECONDARY_NE_QUAD_XY: 647926.37100 5366641.58700
SECONDARY_SE_QUAD_XY: 648107.79000 5359694.98600
SECONDARY_SW_QUAD_XY: 643479.63100 5359576.06300
RMSE_XY: 3.50000
IMAGE_SOURCE: BLACK AND WHITE FILM
SOURCE_IMAGE_ID: NAPP 8420 20
SOURCE_IMAGE_DATE: 1995 8 20
SOURCE_DEM_DATE: 1997 3 12
AGENCY: WESTERN MAPPING CENTER (WMC)
PRODUCER: USFS
PRODUCTION_SYSTEM: DV2.6.3 10/9OV2.4 5/95
COMPRESSION: UNDEFINED
STANDARD_VERSION: 1996 12
METADATA_DATE: 1997 11 2
DATA_FILE_SIZE: 42059000
BYTE_COUNT: 5480
